BEGIN:VCALENDAR
VERSION:2.0
PRODID:-//TYPO3/NONSGML Calendarize//EN
BEGIN:VEVENT
UID:calendarize-babymassage-nach-leboyer-20251014
DTSTAMP:20260425T101821Z
DTSTART:20251013T220000Z
DTEND:20251117T230000Z
SUMMARY:Babymassage nach Leboyer 
DESCRIPTION:Babymassage nach Leboyer Wöchentlich dienstags von 17:15 bis 
 18:15 Uhr\, insgesamt 5 Termine zu je 1h\nWarum Babymassage?  Die Massage
  hilft den Babys\, sich zu entspannen\, lindert Bauchschmerzen und förder
 t die Bindung und Kontaktaufnahme zwischen dem Kind und Masseur*In. \nInh
 alte des Kurses:  Schrittweises Erlernen der wohltuenden indischen Ganzkö
 rpermassage nach Leboyer\, Kennenlernen von Entspannungstechniken\, Kommun
 ikation mit deinem Kind und Bindungsprozesse stärken.\nAlter des Kindes: 
 6 Wochen bis 6 Monate Kursgröße: 6-8 Babys und ihre Begleitperson (Mutte
 r/ Vater) Kursumfang: 5 Termine zu je 1h\, ab 17:15 Uhr  Kursort: Storche
 nnest im Krankenhaus Herrenberg Kursgebühr: 75€ inkl. Kursunterlagen An
 meldung und Informationen: info@hebamme-josinagebhard.de\nBitte beachten S
 ie: An Feiertagen können einzelne Termine abweichen oder ausfallen.
X-ALT-DESC;FMTTYPE=text/html:<p><strong>Babymassage nach Leboyer</strong><
 br /> Wöchentlich dienstags von 17:15 bis 18:15 Uhr\, insgesamt 5 Termine
  zu je 1h</p>\n<p><strong>Warum Babymassage?</strong>&nbsp\;<br /> Die Mas
 sage hilft den Babys\, sich zu entspannen\, lindert Bauchschmerzen und fö
 rdert die Bindung und Kontaktaufnahme zwischen dem Kind und Masseur*In.&nb
 sp\;</p>\n<p><strong>Inhalte des Kurses:</strong>&nbsp\;<br /> Schrittweis
 es Erlernen der wohltuenden indischen Ganzkörpermassage nach Leboyer\, Ke
 nnenlernen von Entspannungstechniken\, Kommunikation mit deinem Kind und B
 indungsprozesse stärken.</p>\n<p>Alter des Kindes: 6 Wochen bis 6 Monate<
 br /> Kursgröße: 6-8 Babys und ihre Begleitperson (Mutter/ Vater)<br /> 
 Kursumfang: 5 Termine zu je 1h\, ab 17:15 Uhr&nbsp\;<br /> Kursort: Storch
 ennest im Krankenhaus Herrenberg<br /> Kursgebühr: 75€ inkl. Kursunterl
 agen<br /> Anmeldung und Informationen: <a href="mailto:info@hebamme-josin
 agebhard.de">info@hebamme-josinagebhard.de</a></p>\n<p>Bitte beachten Sie:
  An Feiertagen können einzelne Termine abweichen oder ausfallen.</p>
LOCATION:
END:VEVENT
END:VCALENDAR
