BEGIN:VCALENDAR
VERSION:2.0
PRODID:-//TYPO3/NONSGML Calendarize//EN
BEGIN:VEVENT
UID:calendarize-fachsymposium-geburtshilfe
DTSTAMP:20260425T172124Z
DTSTART:20250701T063000Z
DTEND:20250701T143000Z
SUMMARY:Wissenschaftliches Fachsymposium zur Geburtshilfe
DESCRIPTION:Wir möchten Sie herzlich zu unserem diesjährigen Wissenschaf
 tlichen Fachsymposium zur Geburtshilfe am 1. Juli in Herrenberg einladen. 
 Gemeinsam schaffen wir einen Raum\, in dem Wissen vertieft und Erfahrungen
  ausgetauscht werden können.\nFreuen Sie sich auf ein vielseitiges Vortra
 gsprogramm: Zum klinischen Berufseinstieg von Hebammen\, Auswirkungen des 
 Geburtsmodus bei Frühgeborenen\, Antibiotikagabe unter der Geburt\, ungep
 lante außerklinische Geburten im Rettungsdienst und zur Kriseninterventio
 n des Klinikverbunds Südwest. Unsere Beiträge zum Wochenbett widmen sich
  pflanzlichen Heilmitteln zur Wundheilung\, Screening-Instrumenten zur Erk
 ennung postpartaler Depressionen sowie der Behandlung eines verkürzten Zu
 ngenbands beim Neugeborenen.\nFür medizinisches Fachpersonal \nTerminüb
 ersicht\nDatum: 1. Juli 2025 8.30 - 16.30 Uhr\nVeranstaltungsort: Krankenh
 aus Herrenberg Konferenzraum / Kapelle Marienstraße 25\, 71083 Herrenberg
 \nAnmeldung: Für Mitarbeitende über die Online-Akademie\, für externe T
 eilnehmende per Mail an c.baust@klinikverbund-suedwest.de\nWeitere Informa
 tionen zur Anmeldung und Programm finden Sie im Veranstaltungsflyer.
X-ALT-DESC;FMTTYPE=text/html:<p>Wir möchten Sie herzlich zu unserem diesj
 ährigen Wissenschaftlichen Fachsymposium zur Geburtshilfe am 1. Juli in H
 errenberg einladen. Gemeinsam schaffen wir einen Raum\, in dem Wissen vert
 ieft und Erfahrungen ausgetauscht werden können.</p>\n<p>Freuen Sie sich 
 auf ein vielseitiges Vortragsprogramm: Zum klinischen Berufseinstieg von H
 ebammen\, Auswirkungen des Geburtsmodus bei Frühgeborenen\, Antibiotikaga
 be unter der Geburt\, ungeplante außerklinische Geburten im Rettungsdiens
 t und zur Krisenintervention des Klinikverbunds Südwest. Unsere Beiträge
  zum Wochenbett widmen sich pflanzlichen Heilmitteln zur Wundheilung\, Scr
 eening-Instrumenten zur Erkennung postpartaler Depressionen sowie der Beha
 ndlung eines verkürzten Zungenbands beim Neugeborenen.</p>\n<p>Für mediz
 inisches Fachpersonal&nbsp\;</p>\n<h5><strong>Terminübersicht</strong></h
 5>\n<p><strong>Datum:</strong><br /> 1. Juli 2025<br /> 8.30 - 16.30 Uhr</
 p>\n<p><strong>Veranstaltungsort:</strong><br /> Krankenhaus Herrenberg<br
  /> Konferenzraum / Kapelle<br /> Marienstraße 25\, 71083 Herrenberg</p>\
 n<p><strong>Anmeldung:</strong><br /> Für Mitarbeitende über die Online-
 Akademie\, für externe Teilnehmende per Mail an<br /> <a class="icon-mail
 " href="mailto:c.baust@klinikverbund-suedwest.de">c.baust@klinikverbund-su
 edwest.de</a></p>\n<p>Weitere Informationen zur Anmeldung und Programm fin
 den Sie im Veranstaltungsflyer.</p>
LOCATION:
END:VEVENT
END:VCALENDAR
