BEGIN:VCALENDAR
VERSION:2.0
PRODID:-//TYPO3/NONSGML Calendarize//EN
BEGIN:VEVENT
UID:calendarize-gesundheitsmesse-calw-2025-informieren-erleben-ausprobiere
 n
DTSTAMP:20260425T154235Z
DTSTART:20250926T220000Z
DTEND:20250927T220000Z
SUMMARY:Gesundheitsmesse Calw 2025: Informieren\, erleben\, ausprobieren
DESCRIPTION:Wer ärztliche Hilfe braucht\, hat viele Fragen. Um diese aber
  gezielt stellen zu können\, braucht es ein gewisses Grundwissen über Kr
 ankheiten\, deren Vorbeugung\, Symptome und Früherkennung. Die Mediziner 
 der beiden Klinikstandorte Calw und Nagold bieten im Rahmen der diesjähri
 gen Gesundheitsmesse die Möglichkeit\, die eigene Gesundheitskompetenz zu
  stärken und mit Experten ins Gespräch zu kommen. An ihrem Stand im Auss
 tellungszelt erleben Besucher Medizin hautnah.\n\nVorträge der Ärzte der
  Klinikstandorte Calw und Nagold\nVortragsräume des TSV Sportzentrum\n 	 
 		 			27.9.2025 			14 Uhr                  			Verhinderung von He
 rz-Kreislauferkrankungen 			Prof. Dr. Martin Oberhoff\, Ärztlicher Direk
 tor Kliniken Calw und 			Chefarzt der Klinik für Innere Medizin mit Sch
 werpunkt Kardiologie Calw 			  		 		 			27.9.2025 			14 Uhr 			Gallenstei
 ne – was tun? 			Dr. Akif Hatipoglu\, Ärztlicher Leiter Praxis für Ch
 irurgie\, 			Gesundheitszentrum MVZ Calw 			  		 		 			27.9.2025 			16 Uh
 r 			Zukünftige Klinik für Gynäkologie und Geburtshilfe an den Kliniken
  Nagold 			Dr. Ines Vogel\, Chefärztin der Klinik für Frauenheilkunde un
 d Geburtshilfe\, Krankenhaus Herrenberg 			  		 		 			28.9.2025 			10.30
  Uhr 			Behandlung von hohem Blutdruck  			Prof. Dr. Martin Oberhoff\, Är
 ztlicher Direktor Kliniken Calw und 			Chefarzt der Klinik für Innere Med
 izin mit Schwerpunkt Kardiologie Calw 			  		 		 			28.9.2025 			11 Uhr 	
 		Roboterchirurgie im Landkreis Calw Spitzenmedizin in Nagold 			Prof. Dr
 . Daniel Kauff\, Chefarzt der Klinik für Allgemein-\, Viszeral- und  G
 efäßchirurgie mit Unfallchirurgie Kliniken Nagold 			  		 		 			28.9.20
 25 			11.30 Uhr  			Vom ersten Blick zur richtigen Entscheidung – Ein
 blick ins Traumazentrum Calw 			Dr. Matthias Nebe\, Oberarzt der Klinik f
 ür Orthopädie und Unfallchirurgie\, Kliniken Calw 			  		 		 			28.9.20
 25 			12 Uhr  			Chronischer Schmerz  aktuelle Ansätze zur Diagnostik 
 und Therapie\, ambulant und stationär 			Dr. Edgar Bauderer\, Ärztliche
 r Leiter der Schmerztherapie Calw 			  		 		 			28.9.2025  			12.30 Uhr 
 			Moderne Schrittmacher und Defibrillator-Operation 			Dr. Uwe Helber\, s
 tellv. Ärztlicher Direktor Kliniken Nagold und 			Chefarzt des Zentrums
  für Kardiologie Nagold-Herrenberg 			  		 		 			28.9.2025 			14 Uhr 		
 	Krebsvorsorge in der Urologie – was ist sinnvoll? 			Dr. Ulrich Haag\,
  Ärztlicher Direktor Kliniken Nagold und 			Chefarzt der Klinik für Ur
 ologie Nagold 			  		 	 
X-ALT-DESC;FMTTYPE=text/html:<p>Wer ärztliche Hilfe braucht\, hat viele F
 ragen. Um diese aber gezielt stellen zu können\, braucht es ein gewisses 
 Grundwissen über Krankheiten\, deren Vorbeugung\, Symptome und Früherken
 nung. Die Mediziner der beiden Klinikstandorte Calw und Nagold bieten im R
 ahmen der diesjährigen Gesundheitsmesse die Möglichkeit\, die eigene Ges
 undheitskompetenz zu stärken und mit Experten ins Gespräch zu kommen. An
  ihrem Stand im Ausstellungszelt erleben Besucher Medizin hautnah.</p>\n\n
 <h4><strong>Vorträge der Ärzte der Klinikstandorte Calw und Nagold</stro
 ng></h4>\n<p><strong>Vortragsräume des TSV Sportzentrum</strong></p>\n<ta
 ble> 	<tbody> 		<tr> 			<td>27.9.2025<br /> 			14 Uhr&nbsp\; &nbsp\; &nbsp
 \; &nbsp\; &nbsp\; &nbsp\; &nbsp\; &nbsp\; &nbsp\;</td> 			<td><strong>Ver
 hinderung von Herz-Kreislauferkrankungen</strong><br /> 			Prof. Dr. Marti
 n Oberhoff\, Ärztlicher&nbsp\;Direktor Kliniken Calw und<br /> 			Chefarz
 t der&nbsp\;Klinik für Innere Medizin mit&nbsp\;Schwerpunkt Kardiologie C
 alw<br /> 			&nbsp\;</td> 		</tr> 		<tr> 			<td>27.9.2025<br /> 			14 Uhr<
 /td> 			<td><strong>Gallensteine – was tun?</strong><br /> 			Dr. Akif H
 atipoglu\, Ärztlicher Leiter&nbsp\;Praxis für Chirurgie\,<br /> 			Gesun
 dheitszentrum MVZ Calw<br /> 			&nbsp\;</td> 		</tr> 		<tr> 			<td>27.9.20
 25<br /> 			16 Uhr</td> 			<td><strong>Zukünftige Klinik für Gynäkologi
 e und Geburtshilfe an den Kliniken Nagold</strong><br /> 			Dr. Ines Vogel
 \, Chefärztin der Klinik für Frauenheilkunde und Geburtshilfe\,&nbsp\;Kr
 ankenhaus Herrenberg<br /> 			&nbsp\;</td> 		</tr> 		<tr> 			<td>28.9.2025
 <br /> 			10.30 Uhr</td> 			<td><strong>Behandlung von hohem Blutdruck </s
 trong><br /> 			Prof. Dr. Martin Oberhoff\, Ärztlicher Direktor Kliniken 
 Calw und<br /> 			Chefarzt der Klinik für Innere Medizin mit Schwerpunkt 
 Kardiologie Calw<br /> 			&nbsp\;</td> 		</tr> 		<tr> 			<td>28.9.2025<br 
 /> 			11 Uhr</td> 			<td><strong>Roboterchirurgie im Landkreis Calw&nbsp\;
 Spitzenmedizin in Nagold</strong><br /> 			Prof. Dr. Daniel Kauff\, Chefar
 zt der&nbsp\;Klinik für Allgemein-\,&nbsp\;Viszeral- und&nbsp\; Gefäßch
 irurgie mit Unfallchirurgie Kliniken Nagold<br /> 			&nbsp\;</td> 		</tr> 
 		<tr> 			<td>28.9.2025<br /> 			11.30 Uhr<strong>&nbsp\;</strong></td> 		
 	<td><strong>Vom ersten Blick zur richtigen&nbsp\;Entscheidung –&nbsp\;<
 /strong><strong>Einblick ins&nbsp\;Traumazentrum Calw</strong><br /> 			Dr
 . Matthias Nebe\, Oberarzt der Klinik für Orthopädie und Unfallchirurgie
 \, Kliniken Calw<br /> 			&nbsp\;</td> 		</tr> 		<tr> 			<td>28.9.2025<br 
 /> 			12 Uhr&nbsp\;</td> 			<td><strong>Chronischer Schmerz&nbsp\; aktuell
 e&nbsp\;Ansätze zur Diagnostik und Therapie\,&nbsp\;ambulant und stationä
 r</strong><br /> 			Dr. Edgar Bauderer\, Ärztlicher Leiter der Schmerzthe
 rapie Calw<br /> 			&nbsp\;</td> 		</tr> 		<tr> 			<td>28.9.2025&nbsp\;<br
  /> 			12.30 Uhr</td> 			<td><strong>Moderne Schrittmacher und Defibrillat
 or-Operation</strong><br /> 			Dr. Uwe Helber\, stellv. Ärztlicher&nbsp\;
 Direktor Kliniken Nagold und<br /> 			Chefarzt&nbsp\;des Zentrums für Kar
 diologie&nbsp\;Nagold-Herrenberg<br /> 			&nbsp\;</td> 		</tr> 		<tr> 			<
 td>28.9.2025<br /> 			14 Uhr</td> 			<td><strong>Krebsvorsorge in der Urol
 ogie – was&nbsp\;ist sinnvoll?</strong><br /> 			Dr. Ulrich Haag\, Ärzt
 licher&nbsp\;Direktor Kliniken Nagold und<br /> 			Chefarzt&nbsp\;der Klin
 ik für Urologie Nagold<br /> 			&nbsp\;</td> 		</tr> 	</tbody> </table>
LOCATION:Bahnhofstraße 95\, 75365 Calw
END:VEVENT
END:VCALENDAR
