BEGIN:VCALENDAR
VERSION:2.0
PRODID:-//TYPO3/NONSGML Calendarize//EN
BEGIN:VEVENT
UID:calendarize-grundkurs-endosonographie-2025-1-20261124
DTSTAMP:20260425T110515Z
DTSTART:20261124T150000Z
DTEND:20261124T210000Z
SUMMARY:Epilepsiesyndrome Erkennen & Gestalten
DESCRIPTION:Die Fortbildungsreihe „Epilepsiesyndrome Erkennen & Gestalte
 n (EEG)“ des Klinikverbunds Südwest bietet eine praxisnahe und fundiert
 e Weiterbildung zur EEG-Diagnostik und zur Therapie von Epilepsien. An neu
 n monatlichen Online-Veranstaltungen sowie einem abschließenden hybriden 
 Symposium werden anhand zahlreicher EEG-Beispiele die Grundlagen und aktue
 llen Entwicklungen der Epileptologie vermittelt\, gemeinsam diskutiert und
  befundet. Die Seminarreihe richtet sich an Ärztinnen und Ärzte in Weite
 rbildung sowie erfahrene Kolleginnen und Kollegen und wird von renommierte
 n Referentinnen und Referenten aus verschiedenen Kliniken in Deutschland u
 nd der Schweiz gestaltet\, unter anderem aus Aachen\, Tübingen\, Basel\, 
 Bonn und Esslingen.\nOrganisiert und moderiert wird die Seminarreihe von D
 r. Stephan Lauxmann\, Leiter des Neurozentrums am Klinikverbund Südwest m
 it den Neuro-Standorten Calw und Sindelfingen. Als Chefarzt baut er aktuel
 l ein Epilepsiezentrum im Westen der Metropolregion Stuttgart auf. Ein bes
 onderes Anliegen ist ihm die qualifizierte Ausbildung und Förderung des e
 pileptologischen Nachwuchses.\nKursinfos\n Termin: Immer dienstags\, 16.00
  - 17.30 Uhr.  Das Abschlusssymposium am 24.11.2026 beginnt um 16 Uhr und 
 endet gegen 22 Uhr.  Teilnahmegebühr: 30 € CME: Beantragt bei der LÄK
  Baden-Württemberg.\n\nVeranstaltungsort: 9x Online via Teams-Link. Diese
 r wird nach erfolgreicher Anmeldung zugesendet.   Ort für das Abschluss-
 Symposium:  Konferenzraum Chesterfield  Kliniken Sindelfingen Arthur-Gru
 ber-Str. 70\nAnmeldung: per E-Mail an: Sekretariat der Neurologisches Klin
 ik Lisbeth Baumeister l.baumeister@klinikverbund-suedwest.de\nMehr Informa
 tionen finden Sie im angehängten Flyer. \n\n
X-ALT-DESC;FMTTYPE=text/html:<p>Die Fortbildungsreihe „Epilepsiesyndrome
  Erkennen &amp\; Gestalten (EEG)“ des Klinikverbunds Südwest bietet ein
 e praxisnahe und fundierte Weiterbildung zur EEG-Diagnostik und zur Therap
 ie von Epilepsien. An neun monatlichen Online-Veranstaltungen sowie einem 
 abschließenden hybriden Symposium werden anhand zahlreicher EEG-Beispiele
  die Grundlagen und aktuellen Entwicklungen der Epileptologie vermittelt\,
  gemeinsam diskutiert und befundet. Die Seminarreihe richtet sich an Ärzt
 innen und Ärzte in Weiterbildung sowie erfahrene Kolleginnen und Kollegen
  und wird von renommierten Referentinnen und Referenten aus verschiedenen 
 Kliniken in Deutschland und der Schweiz gestaltet\, unter anderem aus Aach
 en\, Tübingen\, Basel\, Bonn und Esslingen.</p>\n<p>Organisiert und moder
 iert wird die Seminarreihe von <strong data-end="133" data-start="109">Dr.
  Stephan Lauxmann</strong>\, Leiter des Neurozentrums am Klinikverbund Sü
 dwest mit den Neuro-Standorten Calw und Sindelfingen. Als Chefarzt baut er
  aktuell ein Epilepsiezentrum im Westen der Metropolregion Stuttgart auf. 
 Ein besonderes Anliegen ist ihm die qualifizierte Ausbildung und Förderun
 g des epileptologischen Nachwuchses.</p>\n<h4><span class="clr-16 serif"><
 strong>Kursinfos</strong></span></h4>\n<p><br /> <strong>Termin: Immer die
 nstags\, 16.00 - 17.30 Uhr. </strong><br /> Das Abschlusssymposium am 24.1
 1.2026 beginnt um 16 Uhr und endet gegen 22 Uhr.&nbsp\;<br /> Teilnahmegeb
 ühr: 30 €<br /> CME: Beantragt bei der LÄK Baden-Württemberg.</p>\n\n
 <p class="Default"><strong>Veranstaltungsort:</strong><br /> 9x Online via
  Teams-Link. Dieser wird nach erfolgreicher Anmeldung zugesendet.&nbsp\;<b
 r /> <br /> Ort für das Abschluss-Symposium:&nbsp\;<br /> Konferenzraum C
 hesterfield&nbsp\;<br /> Kliniken Sindelfingen<br /> Arthur-Gruber-Str. 70
 </p>\n<p><strong>Anmeldung:</strong><br /> per E-Mail an: Sekretariat der 
 Neurologisches Klinik<br /> Lisbeth Baumeister<br /> l.baumeister@klinikve
 rbund-suedwest.de</p>\n<p>Mehr Informationen finden Sie im angehängten Fl
 yer.&nbsp\;</p>\n\n
LOCATION:
END:VEVENT
END:VCALENDAR
