BEGIN:VCALENDAR
VERSION:2.0
PRODID:-//TYPO3/NONSGML Calendarize//EN
BEGIN:VEVENT
UID:calendarize-herzwochen-2026-herzklappenerkrankungen
DTSTAMP:20260425T110405Z
DTSTART:20261125T180000Z
DTEND:20261124T230000Z
SUMMARY:Herzwochen 2026: Herzklappenerkrankungen
DESCRIPTION:Unterstützt von den umliegenden Städten und Gemeinden bietet
  das Krankenhaus Leonberg im Rahmen einer kostenfreien Vortragsreihe allen
  Interessierten die Möglichkeit\, sich umfassend über medizinische Theme
 n zu informieren. An spannenden Vortragsabenden erläutern unsere Ärzte w
 ichtige Gesundheitsthemen\, neue Therapieverfahren und Vorsorgemöglichkei
 ten. Im Anschluss haben Sie jeweils die Gelegenheit\, Fragen zu stellen.\n
 \nHerzwochen 2026: Herzklappenerkrankungen\n Vortragstermin: Mittwoch 25.1
 1.2026\, 19.00 Uhr Krankenhaus Leonberg Rutesheimer Str. 50\, 71229 Leonbe
 rg\nReferent:\n 	Sektionsleiter Dr. Gregor Braun 	Klinik für Innere Mediz
 in - Schwerpunkt Kardiologie \n Kontakt: Frau Sandra Joel Sekretariat Kran
 kenhausdirektion 07152 202-64001 s.joel@klinikverbund-suedwest.de \nEs ist
  keine Anmeldung erforderlich.  Am Krankenhaus Leonberg ist das Parken wä
 hrend der Veranstaltungen kostenlos.
X-ALT-DESC;FMTTYPE=text/html:<p>Unterstützt von den umliegenden Städten 
 und Gemeinden bietet das Krankenhaus Leonberg im Rahmen einer kostenfreien
  Vortragsreihe allen Interessierten die Möglichkeit\, sich umfassend übe
 r medizinische Themen zu informieren. An spannenden Vortragsabenden erläu
 tern unsere Ärzte wichtige Gesundheitsthemen\, neue Therapieverfahren und
  Vorsorgemöglichkeiten. Im Anschluss haben Sie jeweils die Gelegenheit\, 
 Fragen zu stellen.</p>\n\n<h4><strong>Herzwochen 2026: Herzklappenerkranku
 ngen</strong></h4>\n<p><br /> <strong>Vortragstermin:</strong><br /> Mittw
 och 25.11.2026\, 19.00 Uhr<br /> Krankenhaus Leonberg<br /> Rutesheimer St
 r. 50\, 71229 Leonberg</p>\n<p><strong>Referent:</strong></p>\n<ul> 	<li>S
 ektionsleiter Dr. Gregor Braun<br /> 	Klinik für Innere Medizin - Schwerp
 unkt Kardiologie</li> </ul>\n<p><br /> <strong>Kontakt:</strong><br /> Fra
 u Sandra Joel<br /> Sekretariat Krankenhausdirektion<br /> <a class="icon-
 tel" href="tel:0715220264001">07152 202-64001</a><br /> <a class="icon-mai
 l" href="mailto:s.joel@klinikverbund-suedwest.de">s.joel@klinikverbund-sue
 dwest.de </a></p>\n<p><strong>Es ist keine Anmeldung erforderlich.&nbsp\;<
 /strong><br /> Am Krankenhaus Leonberg ist das Parken während der Veranst
 altungen kostenlos.</p>
LOCATION:
END:VEVENT
END:VCALENDAR
