BEGIN:VCALENDAR
VERSION:2.0
PRODID:-//TYPO3/NONSGML Calendarize//EN
BEGIN:VEVENT
UID:calendarize-infoabend-stillen-ein-guter-start-ins-leben-1-20251126
DTSTAMP:20260425T121043Z
DTSTART:20251126T180000Z
DTEND:20251125T230000Z
SUMMARY:Terminänderung: Infoabend "Stillen – ein guter Start ins Leben"
DESCRIPTION:Geburtshilfliches Angebot Klinik für Frauenheilkunde und Gebu
 rtshilfe\nIm Anschluss an den Infoabend findet eine Kreißsaalführung sta
 tt. Vorübergehend am 4. Mittwoch im Monat\, 19.00 Uhr Veranstaltungsort: 
 Kapelle am Krankenhaus Herrenberg\nEine Anmeldung ist nicht erforderlich.\
 nBitte beachten Sie: An Feiertagen können einzelne Termine abweichen oder
  ausfallen.
X-ALT-DESC;FMTTYPE=text/html:<p><strong>Geburtshilfliches Angebot</strong>
 <br /> Klinik für Frauenheilkunde und Geburtshilfe</p>\n<p>Im Anschluss a
 n den Infoabend findet eine Kreißsaalführung statt.<br /> Vorübergehend
  am 4. Mittwoch im Monat\, 19.00 Uhr<br /> Veranstaltungsort: Kapelle am K
 rankenhaus Herrenberg</p>\n<p>Eine Anmeldung ist nicht erforderlich.</p>\n
 <p>Bitte beachten Sie: An Feiertagen können einzelne Termine abweichen od
 er ausfallen.</p>
LOCATION:
END:VEVENT
END:VCALENDAR
