BEGIN:VCALENDAR
VERSION:2.0
PRODID:-//TYPO3/NONSGML Calendarize//EN
BEGIN:VEVENT
UID:calendarize-interdisziplinaere-fortbildungsreihe-onkologisches-zentrum
 -sindelfingen-boeblingen-14
DTSTAMP:20260425T110537Z
DTSTART:20261202T133000Z
DTEND:20261202T143000Z
SUMMARY:Stomaversorgung im Klinikalltag – aktuelle Entwicklungen
DESCRIPTION:Im Rahmen der Interdisziplinären Fortbildungsreihe 2026 biete
 t das Onkologische Zentrum Sindelfingen/Böblingen gemeinsam mit den Organ
 krebszentren in Nagold\, Böblingen und Sindelfingen aktuelles Fachwissen 
 zu onkologischen\, pflegerischen\, hygienischen\, ethischen und versorgung
 srelevanten Themen an.\nDie Fortbildungsreihe richtet sich an Mitarbeitend
 e im ärztlichen Dienst\, Pflegedienst\, Therapeutische und diagnostische 
 Fachbereiche und nichtärztlichen Bereich des gesamten Klinikverbunds Süd
 west sowie an Kooperationspartner der zertifizierten Organkrebszentren.\nD
 atum: Mittwoch\, 2. Dezember \nTitel: Stomaversorgung im Klinikalltag –
  aktuelle Entwicklungen\nReferent: Karin Klaus\, Pflegeexpertin Stoma-Kont
 inenz-Wunde\, Coloplast Homecare\nOrt: Kliniken Sindelfingen\, Medienraum 
 1. OG\nUhrzeit: 14:30–15:30 Uhr\nFormat: Präsenz\nFortbildung\n 	Anerke
 nnung als zertifizierte ärztliche Fortbildung bei der Landesärztekammer 
 Baden-Württemberg beantragt. 	Bitte EFN-Nummer inkl. Vor- und Familiennam
 e bei der Anmeldung angeben 	Teilnahme kostenfrei \nAnmeldung\n 	 	KVSW-in
 tern: 	Anmeldung über unsere Online-Akademie. Bei hybriden Terminen zusä
 tzlich verbindliche Vorabanmeldung per E-Mail an c.baust@klinikverbund-sue
 dwest.de  	Extern: 	Anmeldung über das KVSW Bildungszentrum: 	Frau Christ
 ina Baust 	KVSW Bildungszentrum 	c.baust@klinikverbund-suedwest.de 	 
X-ALT-DESC;FMTTYPE=text/html:<p>Im Rahmen der Interdisziplinären Fortbild
 ungsreihe 2026 bietet das Onkologische Zentrum Sindelfingen/Böblingen gem
 einsam mit den Organkrebszentren in Nagold\, Böblingen und Sindelfingen a
 ktuelles Fachwissen zu onkologischen\, pflegerischen\, hygienischen\, ethi
 schen und versorgungsrelevanten Themen an.</p>\n<p>Die Fortbildungsreihe r
 ichtet sich an Mitarbeitende im ärztlichen Dienst\, Pflegedienst\, Therap
 eutische und diagnostische Fachbereiche und nichtärztlichen Bereich des g
 esamten Klinikverbunds Südwest sowie an Kooperationspartner der zertifizi
 erten Organkrebszentren.</p>\n<p><strong>Datum:</strong> Mittwoch\, 2. Dez
 ember&nbsp\;</p>\n<p><strong>Titel:</strong>&nbsp\;Stomaversorgung im Klin
 ikalltag – aktuelle Entwicklungen</p>\n<p><strong>Referent:</strong> Kar
 in Klaus\, Pflegeexpertin Stoma-Kontinenz-Wunde\, Coloplast Homecare</p>\n
 <p><strong>Ort:</strong> Kliniken Sindelfingen\, Medienraum 1. OG</p>\n<p>
 <strong>Uhrzeit:</strong> 14:30–15:30 Uhr</p>\n<p><strong>Format:</stron
 g> Präsenz</p>\n<h6>Fortbildung</h6>\n<ul> 	<li>Anerkennung als zertifizi
 erte ärztliche Fortbildung bei der Landesärztekammer Baden-Württemberg 
 beantragt.</li> 	<li>Bitte EFN-Nummer inkl. Vor- und Familienname bei der 
 Anmeldung angeben</li> 	<li>Teilnahme kostenfrei</li> </ul>\n<h6>Anmeldung
 </h6>\n<ul> 	<li> 	<p><strong>KVSW-intern:</strong><br /> 	Anmeldung über
  unsere&nbsp\;<a href="https://www.onlineakademie-kvsw.de/LS/2046671373/KI
 P/DetailBenutzerdefiniert/13d42ace-d15c-4eb2-9ded-566ee0cb5da3?wss_1=esGri
 d_KipUebersicht&amp\;wss_1_anzahl=0&amp\;wss_1_sort=asc---Kurs%20Titel~~as
 c---Kursdauer%20von~~asc---Kurs%20Uhrzeit%20von&amp\;wss_1_gruppierung=asc
 ---Kurs%20Titel" target="_blank" title="Öffnet Link in neuem Fenster">Onl
 ine-Akademie</a><strong>. Bei hybriden Terminen zusätzlich verbindliche V
 orabanmeldung per E-Mail an <a href="mailto:c.baust@klinikverbund-suedwest
 .de">c.baust@klinikverbund-suedwest.de</a> </strong></p> 	<p><strong>Exter
 n:</strong><br /> 	Anmeldung über das KVSW Bildungszentrum:<br /> 	Frau C
 hristina Baust<br /> 	KVSW Bildungszentrum<br /> 	<a href="https://www.kli
 nikverbund-suedwest.de/der-klinikverbund-suedwest/veranstaltungen/detail/2
 -neonatologie-pflegesymposium/">c.baust@klinikverbund-suedwest.de</a></p> 
 	</li> </ul>
LOCATION:Kliniken Sindelfingen
END:VEVENT
END:VCALENDAR
