BEGIN:VCALENDAR
VERSION:2.0
PRODID:-//TYPO3/NONSGML Calendarize//EN
BEGIN:VEVENT
UID:calendarize-interdisziplinaere-fortbildungsreihe-onkologisches-zentrum
 -sindelfingen-boeblingen-2
DTSTAMP:20260425T034447Z
DTSTART:20260303T133000Z
DTEND:20260303T143000Z
SUMMARY:Interdisziplinäre Fortbildungsreihe - Organkrebszentrum Nagold 
DESCRIPTION:Im Rahmen der Interdisziplinären Fortbildungsreihe 2026 biete
 t das Onkologische Zentrum Sindelfingen/Böblingen gemeinsam mit den Organ
 krebszentren in Nagold\, Böblingen und Sindelfingen aktuelles Fachwissen 
 zu onkologischen\, pflegerischen\, hygienischen\, ethischen und versorgung
 srelevanten Themen an.\nDie Fortbildungsreihe richtet sich an Mitarbeitend
 e im ärztlichen Dienst\, Pflegedienst\, Therapeutische und diagnostische 
 Fachbereiche und nichtärztlichen Bereich des gesamten Klinikverbunds Süd
 west sowie an Kooperationspartner der zertifizierten Organkrebszentren.\nD
 atum: Dienstag\, 3. März 2026\nTitel: Weiter-/Übergangsversorgung nach 
 dem Klinikaufenthalt – Vorstellung des Programms „Beste Genesung zu Ha
 use“\nReferent: Eberhard Schwarz\, Birgit Goedecke\, Stadtseniorenrat Na
 gold\nOrt: Kliniken Nagold\, Konferenzraum Nagold\nUhrzeit: 14:30–15:30 
 Uhr\nFormat: Präsenz\nFortbildung\n 	Anerkennung als zertifizierte ärztl
 iche Fortbildung bei der Landesärztekammer Baden-Württemberg beantragt. 
 	Bitte EFN-Nummer inkl. Vor- und Familienname bei der Anmeldung angeben 	T
 eilnahme kostenfrei \nAnmeldung\n 	 	KVSW-intern: 	Anmeldung über unsere 
 Online-Akademie. Bei hybriden Terminen zusätzlich verbindliche Vorabanmel
 dung per E-Mail an c.baust@klinikverbund-suedwest.de  	Extern: 	Anmeldung 
 über das KVSW Bildungszentrum: 	Frau Christina Baust 	KVSW Bildungszentru
 m 	c.baust@klinikverbund-suedwest.de 	 
X-ALT-DESC;FMTTYPE=text/html:<p>Im Rahmen der Interdisziplinären Fortbild
 ungsreihe 2026 bietet das Onkologische Zentrum Sindelfingen/Böblingen gem
 einsam mit den Organkrebszentren in Nagold\, Böblingen und Sindelfingen a
 ktuelles Fachwissen zu onkologischen\, pflegerischen\, hygienischen\, ethi
 schen und versorgungsrelevanten Themen an.</p>\n<p>Die Fortbildungsreihe r
 ichtet sich an Mitarbeitende im ärztlichen Dienst\, Pflegedienst\, Therap
 eutische und diagnostische Fachbereiche und nichtärztlichen Bereich des g
 esamten Klinikverbunds Südwest sowie an Kooperationspartner der zertifizi
 erten Organkrebszentren.</p>\n<p><strong>Datum:</strong>&nbsp\;Dienstag\, 
 3. März 2026</p>\n<p><strong>Titel:</strong> Weiter-/Übergangsversorgung
  nach dem Klinikaufenthalt – Vorstellung des Programms „Beste Genesung
  zu Hause“</p>\n<p><strong>Referent:</strong> Eberhard Schwarz\, Birgit 
 Goedecke\, Stadtseniorenrat Nagold</p>\n<p><strong>Ort:</strong> Kliniken 
 Nagold\, Konferenzraum Nagold</p>\n<p><strong>Uhrzeit:</strong> 14:30–15
 :30 Uhr</p>\n<p><strong>Format:</strong> Präsenz</p>\n<h6>Fortbildung</h6
 >\n<ul> 	<li>Anerkennung als zertifizierte ärztliche Fortbildung bei der 
 Landesärztekammer Baden-Württemberg beantragt.</li> 	<li>Bitte EFN-Numme
 r inkl. Vor- und Familienname bei der Anmeldung angeben</li> 	<li>Teilnahm
 e kostenfrei</li> </ul>\n<h6>Anmeldung</h6>\n<ul> 	<li> 	<p><strong>KVSW-i
 ntern:</strong><br /> 	Anmeldung über unsere&nbsp\;<a href="https://www.o
 nlineakademie-kvsw.de/LS/2046671373/KIP/DetailBenutzerdefiniert/13d42ace-d
 15c-4eb2-9ded-566ee0cb5da3?wss_1=esGrid_KipUebersicht&amp\;wss_1_anzahl=0&
 amp\;wss_1_sort=asc---Kurs%20Titel~~asc---Kursdauer%20von~~asc---Kurs%20Uh
 rzeit%20von&amp\;wss_1_gruppierung=asc---Kurs%20Titel" target="_blank" tit
 le="Öffnet Link in neuem Fenster">Online-Akademie</a><strong>. Bei hybrid
 en Terminen zusätzlich verbindliche Vorabanmeldung per E-Mail an <a href=
 "mailto:c.baust@klinikverbund-suedwest.de">c.baust@klinikverbund-suedwest.
 de</a> </strong></p> 	<p><strong>Extern:</strong><br /> 	Anmeldung über d
 as KVSW Bildungszentrum:<br /> 	Frau Christina Baust<br /> 	KVSW Bildungsz
 entrum<br /> 	<a href="https://www.klinikverbund-suedwest.de/der-klinikver
 bund-suedwest/veranstaltungen/detail/2-neonatologie-pflegesymposium/">c.ba
 ust@klinikverbund-suedwest.de</a></p> 	</li> </ul>
LOCATION:Kliniken Nagold
END:VEVENT
END:VCALENDAR
