BEGIN:VCALENDAR
VERSION:2.0
PRODID:-//TYPO3/NONSGML Calendarize//EN
BEGIN:VEVENT
UID:calendarize-interdisziplinaere-fortbildungsreihe-onkologisches-zentrum
 -sindelfingen-boeblingen-5
DTSTAMP:20260425T034444Z
DTSTART:20260421T123000Z
DTEND:20260421T133000Z
SUMMARY:Interdisziplinäre Fortbildungsreihe - Organkrebszentrum Nagold
DESCRIPTION:Im Rahmen der Interdisziplinären Fortbildungsreihe 2026 biete
 t das Onkologische Zentrum Sindelfingen/Böblingen gemeinsam mit den Organ
 krebszentren in Nagold\, Böblingen und Sindelfingen aktuelles Fachwissen 
 zu onkologischen\, pflegerischen\, hygienischen\, ethischen und versorgung
 srelevanten Themen an.\nDie Fortbildungsreihe richtet sich an Mitarbeitend
 e im ärztlichen Dienst\, Pflegedienst\, Therapeutische und diagnostische 
 Fachbereiche und nichtärztlichen Bereich des gesamten Klinikverbunds Süd
 west sowie an Kooperationspartner der zertifizierten Organkrebszentren.\nD
 atum: Dienstag\, 21. April 2026\nTitel: Stomaversorgung im Klinikalltag –
  aktuelle Entwicklungen\nReferent: Karin Klaus\, Pflegeexpertin Stoma-Kon
 tinenz-Wunde\, Coloplast Homecare\nOrt: Kliniken Nagold\, hintere Cafeteri
 a\nUhrzeit: 14:30–15:30 Uhr\nFormat: Präsenz\nFortbildung\n 	Anerkennun
 g als zertifizierte ärztliche Fortbildung bei der Landesärztekammer Bade
 n-Württemberg beantragt. 	Bitte EFN-Nummer inkl. Vor- und Familienname be
 i der Anmeldung angeben 	Teilnahme kostenfrei \nAnmeldung\n 	 	KVSW-intern
 : 	Anmeldung über unsere Online-Akademie. Bei hybriden Terminen zusätzl
 ich verbindliche Vorabanmeldung per E-Mail an c.baust@klinikverbund-suedwe
 st.de  	Extern: 	Anmeldung über das KVSW Bildungszentrum: 	Frau Christina
  Baust 	KVSW Bildungszentrum 	c.baust@klinikverbund-suedwest.de 	 
X-ALT-DESC;FMTTYPE=text/html:<p>Im Rahmen der Interdisziplinären Fortbild
 ungsreihe 2026 bietet das Onkologische Zentrum Sindelfingen/Böblingen gem
 einsam mit den Organkrebszentren in Nagold\, Böblingen und Sindelfingen a
 ktuelles Fachwissen zu onkologischen\, pflegerischen\, hygienischen\, ethi
 schen und versorgungsrelevanten Themen an.</p>\n<p>Die Fortbildungsreihe r
 ichtet sich an Mitarbeitende im ärztlichen Dienst\, Pflegedienst\, Therap
 eutische und diagnostische Fachbereiche und nichtärztlichen Bereich des g
 esamten Klinikverbunds Südwest sowie an Kooperationspartner der zertifizi
 erten Organkrebszentren.</p>\n<p><strong>Datum:</strong> Dienstag\, 21. Ap
 ril 2026</p>\n<p><strong>Titel:</strong>&nbsp\;Stomaversorgung im Klinikal
 ltag – aktuelle Entwicklungen</p>\n<p><strong>Referent:&nbsp\;</strong>K
 arin Klaus\, Pflegeexpertin Stoma-Kontinenz-Wunde\, Coloplast Homecare</p>
 \n<p><strong>Ort:</strong> Kliniken Nagold\, hintere Cafeteria</p>\n<p><st
 rong>Uhrzeit:</strong> 14:30–15:30 Uhr</p>\n<p><strong>Format:</strong> 
 Präsenz</p>\n<h6>Fortbildung</h6>\n<ul> 	<li>Anerkennung als zertifiziert
 e ärztliche Fortbildung bei der Landesärztekammer Baden-Württemberg bea
 ntragt.</li> 	<li>Bitte EFN-Nummer inkl. Vor- und Familienname bei der Anm
 eldung angeben</li> 	<li>Teilnahme kostenfrei</li> </ul>\n<h6>Anmeldung</h
 6>\n<ul> 	<li> 	<p><strong>KVSW-intern:</strong><br /> 	Anmeldung über un
 sere&nbsp\;<a href="https://www.onlineakademie-kvsw.de/LS/2046671373/KIP/D
 etailBenutzerdefiniert/13d42ace-d15c-4eb2-9ded-566ee0cb5da3?wss_1=esGrid_K
 ipUebersicht&amp\;wss_1_anzahl=0&amp\;wss_1_sort=asc---Kurs%20Titel~~asc--
 -Kursdauer%20von~~asc---Kurs%20Uhrzeit%20von&amp\;wss_1_gruppierung=asc---
 Kurs%20Titel" target="_blank" title="Öffnet Link in neuem Fenster">Online
 -Akademie</a><strong>. Bei hybriden Terminen zusätzlich verbindliche Vora
 banmeldung per E-Mail an <a href="mailto:c.baust@klinikverbund-suedwest.de
 ">c.baust@klinikverbund-suedwest.de</a> </strong></p> 	<p><strong>Extern:<
 /strong><br /> 	Anmeldung über das KVSW Bildungszentrum:<br /> 	Frau Chri
 stina Baust<br /> 	KVSW Bildungszentrum<br /> 	<a href="https://www.klinik
 verbund-suedwest.de/der-klinikverbund-suedwest/veranstaltungen/detail/2-ne
 onatologie-pflegesymposium/">c.baust@klinikverbund-suedwest.de</a></p> 	</
 li> </ul>
LOCATION:Kliniken Nagold
END:VEVENT
END:VCALENDAR
