BEGIN:VCALENDAR
VERSION:2.0
PRODID:-//TYPO3/NONSGML Calendarize//EN
BEGIN:VEVENT
UID:calendarize-interdisziplinaere-fortbildungsreihe-onkologisches-zentrum
 -sindelfingen-boeblingen-6
DTSTAMP:20260425T034549Z
DTSTART:20260512T123000Z
DTEND:20260512T133000Z
SUMMARY:Interdisziplinäre Fortbildungsreihe - Onkologisches Zentrum Sinde
 lfingen-Böblingen
DESCRIPTION:Im Rahmen der Interdisziplinären Fortbildungsreihe 2026 biete
 t das Onkologische Zentrum Sindelfingen/Böblingen gemeinsam mit den Organ
 krebszentren in Nagold\, Böblingen und Sindelfingen aktuelles Fachwissen 
 zu onkologischen\, pflegerischen\, hygienischen\, ethischen und versorgung
 srelevanten Themen an.\nDie Fortbildungsreihe richtet sich an Mitarbeitend
 e im ärztlichen Dienst\, Pflegedienst\, Therapeutische und diagnostische 
 Fachbereiche und nichtärztlichen Bereich des gesamten Klinikverbunds Süd
 west sowie an Kooperationspartner der zertifizierten Organkrebszentren.\nD
 atum: Dienstag\, 12. Mai 2026\nTitel: Back to the Basics: Blutkulturdiagno
 stik – Abnahmetechnik\, Kontaminationen\, Kontroll-Blutkulturen zur Ther
 apiesteuerung\, Therapiedauer bei Bakteriämien\nReferent: Florian Wagner\
 , Apotheker\, Internist\, Infektiologe\, Antibiotic Stewardship\nOrt: Klin
 iken Sindelfingen\, Konferenzraum Chesterfield (UG)\nUhrzeit: 14:30–15:3
 0 Uhr\nFormat: Präsenz\nFortbildung\n 	Anerkennung als zertifizierte ärz
 tliche Fortbildung bei der Landesärztekammer Baden-Württemberg beantragt
 . 	Bitte EFN-Nummer inkl. Vor- und Familienname bei der Anmeldung angeben 
 	Teilnahme kostenfrei \nAnmeldung\n 	 	KVSW-intern: 	Anmeldung über unser
 e Online-Akademie. Bei hybriden Terminen zusätzlich verbindliche Voraban
 meldung per E-Mail an c.baust@klinikverbund-suedwest.de  	Extern: 	Anmeldu
 ng über das KVSW Bildungszentrum: 	Frau Christina Baust 	KVSW Bildungszen
 trum 	c.baust@klinikverbund-suedwest.de 	 
X-ALT-DESC;FMTTYPE=text/html:<p>Im Rahmen der Interdisziplinären Fortbild
 ungsreihe 2026 bietet das Onkologische Zentrum Sindelfingen/Böblingen gem
 einsam mit den Organkrebszentren in Nagold\, Böblingen und Sindelfingen a
 ktuelles Fachwissen zu onkologischen\, pflegerischen\, hygienischen\, ethi
 schen und versorgungsrelevanten Themen an.</p>\n<p>Die Fortbildungsreihe r
 ichtet sich an Mitarbeitende im ärztlichen Dienst\, Pflegedienst\, Therap
 eutische und diagnostische Fachbereiche und nichtärztlichen Bereich des g
 esamten Klinikverbunds Südwest sowie an Kooperationspartner der zertifizi
 erten Organkrebszentren.</p>\n<p><strong>Datum:</strong> Dienstag\, 12. Ma
 i 2026</p>\n<p><strong>Titel:</strong> Back to the Basics: Blutkulturdiagn
 ostik – Abnahmetechnik\, Kontaminationen\, Kontroll-Blutkulturen zur The
 rapiesteuerung\, Therapiedauer bei Bakteriämien</p>\n<p><strong>Referent:
 </strong> Florian Wagner\, Apotheker\, Internist\, Infektiologe\, Antibiot
 ic Stewardship</p>\n<p><strong>Ort:</strong> Kliniken Sindelfingen\, Konfe
 renzraum Chesterfield (UG)</p>\n<p><strong>Uhrzeit:</strong> 14:30–15:30
  Uhr</p>\n<p><strong>Format:</strong> Präsenz</p>\n<h6>Fortbildung</h6>\n
 <ul> 	<li>Anerkennung als zertifizierte ärztliche Fortbildung bei der Lan
 desärztekammer Baden-Württemberg beantragt.</li> 	<li>Bitte EFN-Nummer i
 nkl. Vor- und Familienname bei der Anmeldung angeben</li> 	<li>Teilnahme k
 ostenfrei</li> </ul>\n<h6>Anmeldung</h6>\n<ul> 	<li> 	<p><strong>KVSW-inte
 rn:</strong><br /> 	Anmeldung über unsere&nbsp\;<a href="https://www.onli
 neakademie-kvsw.de/LS/2046671373/KIP/DetailBenutzerdefiniert/13d42ace-d15c
 -4eb2-9ded-566ee0cb5da3?wss_1=esGrid_KipUebersicht&amp\;wss_1_anzahl=0&amp
 \;wss_1_sort=asc---Kurs%20Titel~~asc---Kursdauer%20von~~asc---Kurs%20Uhrze
 it%20von&amp\;wss_1_gruppierung=asc---Kurs%20Titel" target="_blank" title=
 "Öffnet Link in neuem Fenster">Online-Akademie</a><strong>. Bei hybriden 
 Terminen zusätzlich verbindliche Vorabanmeldung per E-Mail an <a href="ma
 ilto:c.baust@klinikverbund-suedwest.de">c.baust@klinikverbund-suedwest.de<
 /a> </strong></p> 	<p><strong>Extern:</strong><br /> 	Anmeldung über das 
 KVSW Bildungszentrum:<br /> 	Frau Christina Baust<br /> 	KVSW Bildungszent
 rum<br /> 	<a href="https://www.klinikverbund-suedwest.de/der-klinikverbun
 d-suedwest/veranstaltungen/detail/2-neonatologie-pflegesymposium/">c.baust
 @klinikverbund-suedwest.de</a></p> 	</li> </ul>
LOCATION:Kliniken Sindelfingen
END:VEVENT
END:VCALENDAR
