BEGIN:VCALENDAR
VERSION:2.0
PRODID:-//TYPO3/NONSGML Calendarize//EN
BEGIN:VEVENT
UID:calendarize-interdisziplinaere-fortbildungsreihe-onkologisches-zentrum
 -sindelfingen-boeblingen-7
DTSTAMP:20260425T034443Z
DTSTART:20260610T123000Z
DTEND:20260610T133000Z
SUMMARY:Interdisziplinäre Fortbildungsreihe -Organkrebszentrum Nagold 
DESCRIPTION:Im Rahmen der Interdisziplinären Fortbildungsreihe 2026 biete
 t das Onkologische Zentrum Sindelfingen/Böblingen gemeinsam mit den Organ
 krebszentren in Nagold\, Böblingen und Sindelfingen aktuelles Fachwissen 
 zu onkologischen\, pflegerischen\, hygienischen\, ethischen und versorgung
 srelevanten Themen an.\nDie Fortbildungsreihe richtet sich an Mitarbeitend
 e im ärztlichen Dienst\, Pflegedienst\, Therapeutische und diagnostische 
 Fachbereiche und nichtärztlichen Bereich des gesamten Klinikverbunds Süd
 west sowie an Kooperationspartner der zertifizierten Organkrebszentren.\nD
 atum: Mittwoch\, 10. Juni 2026\nTitel: Robotik in der Viszeralonkologie\nR
 eferent: Prof. Dr. Daniel Kauff\, Chefarzt Allgemein-\, Viszeral- und Gefä
 ßchirurgie\nOrt: Kliniken Nagold\, Besprechungsraum Neubau EG\nUhrzeit: 1
 4:30–15:30 Uhr\nFormat: Präsenz\nFortbildung\n 	Anerkennung als zertifi
 zierte ärztliche Fortbildung bei der Landesärztekammer Baden-Württember
 g beantragt. 	Bitte EFN-Nummer inkl. Vor- und Familienname bei der Anmeldu
 ng angeben 	Teilnahme kostenfrei \nAnmeldung\n 	 	KVSW-intern: 	Anmeldung 
 über unsere Online-Akademie. Bei hybriden Terminen zusätzlich verbindli
 che Vorabanmeldung per E-Mail an c.baust@klinikverbund-suedwest.de  	Exter
 n: 	Anmeldung über das KVSW Bildungszentrum: 	Frau Christina Baust 	KVSW 
 Bildungszentrum 	c.baust@klinikverbund-suedwest.de 	 
X-ALT-DESC;FMTTYPE=text/html:<p>Im Rahmen der Interdisziplinären Fortbild
 ungsreihe 2026 bietet das Onkologische Zentrum Sindelfingen/Böblingen gem
 einsam mit den Organkrebszentren in Nagold\, Böblingen und Sindelfingen a
 ktuelles Fachwissen zu onkologischen\, pflegerischen\, hygienischen\, ethi
 schen und versorgungsrelevanten Themen an.</p>\n<p>Die Fortbildungsreihe r
 ichtet sich an Mitarbeitende im ärztlichen Dienst\, Pflegedienst\, Therap
 eutische und diagnostische Fachbereiche und nichtärztlichen Bereich des g
 esamten Klinikverbunds Südwest sowie an Kooperationspartner der zertifizi
 erten Organkrebszentren.</p>\n<p><strong>Datum:</strong> Mittwoch\, 10. Ju
 ni 2026</p>\n<p><strong>Titel:</strong> Robotik in der Viszeralonkologie</
 p>\n<p><strong>Referent:</strong> Prof. Dr. Daniel Kauff\, Chefarzt Allgem
 ein-\, Viszeral- und Gefäßchirurgie</p>\n<p><strong>Ort:</strong> Klinik
 en Nagold\, Besprechungsraum Neubau EG</p>\n<p><strong>Uhrzeit:</strong> 1
 4:30–15:30 Uhr</p>\n<p><strong>Format:</strong> Präsenz</p>\n<h6>Fortbi
 ldung</h6>\n<ul> 	<li>Anerkennung als zertifizierte ärztliche Fortbildung
  bei der Landesärztekammer Baden-Württemberg beantragt.</li> 	<li>Bitte 
 EFN-Nummer inkl. Vor- und Familienname bei der Anmeldung angeben</li> 	<li
 >Teilnahme kostenfrei</li> </ul>\n<h6>Anmeldung</h6>\n<ul> 	<li> 	<p><stro
 ng>KVSW-intern:</strong><br /> 	Anmeldung über unsere&nbsp\;<a href="http
 s://www.onlineakademie-kvsw.de/LS/2046671373/KIP/DetailBenutzerdefiniert/1
 3d42ace-d15c-4eb2-9ded-566ee0cb5da3?wss_1=esGrid_KipUebersicht&amp\;wss_1_
 anzahl=0&amp\;wss_1_sort=asc---Kurs%20Titel~~asc---Kursdauer%20von~~asc---
 Kurs%20Uhrzeit%20von&amp\;wss_1_gruppierung=asc---Kurs%20Titel" target="_b
 lank" title="Öffnet Link in neuem Fenster">Online-Akademie</a><strong>. B
 ei hybriden Terminen zusätzlich verbindliche Vorabanmeldung per E-Mail an
  <a href="mailto:c.baust@klinikverbund-suedwest.de">c.baust@klinikverbund-
 suedwest.de</a> </strong></p> 	<p><strong>Extern:</strong><br /> 	Anmeldun
 g über das KVSW Bildungszentrum:<br /> 	Frau Christina Baust<br /> 	KVSW 
 Bildungszentrum<br /> 	<a href="https://www.klinikverbund-suedwest.de/der-
 klinikverbund-suedwest/veranstaltungen/detail/2-neonatologie-pflegesymposi
 um/">c.baust@klinikverbund-suedwest.de</a></p> 	</li> </ul>
LOCATION:Kliniken Nagold 
END:VEVENT
END:VCALENDAR
