BEGIN:VCALENDAR
VERSION:2.0
PRODID:-//TYPO3/NONSGML Calendarize//EN
BEGIN:VEVENT
UID:calendarize-interdisziplinaere-fortbildungsreihe-onkologisches-zentrum
 -sindelfingen-boeblingen-9
DTSTAMP:20260425T122029Z
DTSTART:20261005T123000Z
DTEND:20261005T133000Z
SUMMARY:Interdisziplinäre Fortbildungsreihe - Onkologisches Zentrum Sinde
 lfingen-Böblingen
DESCRIPTION:Im Rahmen der Interdisziplinären Fortbildungsreihe 2026 biete
 t das Onkologische Zentrum Sindelfingen/Böblingen gemeinsam mit den Organ
 krebszentren in Nagold\, Böblingen und Sindelfingen aktuelles Fachwissen 
 zu onkologischen\, pflegerischen\, hygienischen\, ethischen und versorgung
 srelevanten Themen an.\nDie Fortbildungsreihe richtet sich an Mitarbeitend
 e im ärztlichen Dienst\, Pflegedienst\, Therapeutische und diagnostische 
 Fachbereiche und nichtärztlichen Bereich des gesamten Klinikverbunds Süd
 west sowie an Kooperationspartner der zertifizierten Organkrebszentren.\nD
 atum: Montag\, 5. Oktober 2026\nTitel: Angebote der ambulanten Krebsberatu
 ngsstellen für Krebskranke und Angehörige – ein Überblick\nReferent: 
 Monika Haug\, Ambulante Krebsberatung Böblingen\nOrt: Kliniken Böblingen
 \, Konferenzraum Glenrothes\nUhrzeit: 14:30–15:30 Uhr\nFormat: Präsenz\
 nFortbildung\n 	Anerkennung als zertifizierte ärztliche Fortbildung bei d
 er Landesärztekammer Baden-Württemberg beantragt. 	Bitte EFN-Nummer inkl
 . Vor- und Familienname bei der Anmeldung angeben 	Teilnahme kostenfrei \n
 Anmeldung\n 	 	KVSW-intern: 	Anmeldung über unsere Online-Akademie. Bei 
 hybriden Terminen zusätzlich verbindliche Vorabanmeldung per E-Mail an c.
 baust@klinikverbund-suedwest.de  	Extern: 	Anmeldung über das KVSW Bildun
 gszentrum: 	Frau Christina Baust 	KVSW Bildungszentrum 	c.baust@klinikverb
 und-suedwest.de 	 
X-ALT-DESC;FMTTYPE=text/html:<p>Im Rahmen der Interdisziplinären Fortbild
 ungsreihe 2026 bietet das Onkologische Zentrum Sindelfingen/Böblingen gem
 einsam mit den Organkrebszentren in Nagold\, Böblingen und Sindelfingen a
 ktuelles Fachwissen zu onkologischen\, pflegerischen\, hygienischen\, ethi
 schen und versorgungsrelevanten Themen an.</p>\n<p>Die Fortbildungsreihe r
 ichtet sich an Mitarbeitende im ärztlichen Dienst\, Pflegedienst\, Therap
 eutische und diagnostische Fachbereiche und nichtärztlichen Bereich des g
 esamten Klinikverbunds Südwest sowie an Kooperationspartner der zertifizi
 erten Organkrebszentren.</p>\n<p><strong>Datum:</strong> Montag\, 5. Oktob
 er 2026</p>\n<p><strong>Titel:</strong> Angebote der ambulanten Krebsberat
 ungsstellen für Krebskranke und Angehörige – ein Überblick</p>\n<p><s
 trong>Referent:</strong> Monika Haug\, Ambulante Krebsberatung Böblingen<
 /p>\n<p><strong>Ort:</strong> Kliniken Böblingen\, Konferenzraum Glenroth
 es</p>\n<p><strong>Uhrzeit:</strong> 14:30–15:30 Uhr</p>\n<p><strong>For
 mat:</strong> Präsenz</p>\n<h6>Fortbildung</h6>\n<ul> 	<li>Anerkennung al
 s zertifizierte ärztliche Fortbildung bei der Landesärztekammer Baden-Wü
 rttemberg beantragt.</li> 	<li>Bitte EFN-Nummer inkl. Vor- und Familiennam
 e bei der Anmeldung angeben</li> 	<li>Teilnahme kostenfrei</li> </ul>\n<h6
 >Anmeldung</h6>\n<ul> 	<li> 	<p><strong>KVSW-intern:</strong><br /> 	Anmel
 dung über unsere&nbsp\;<a href="https://www.onlineakademie-kvsw.de/LS/204
 6671373/KIP/DetailBenutzerdefiniert/13d42ace-d15c-4eb2-9ded-566ee0cb5da3?w
 ss_1=esGrid_KipUebersicht&amp\;wss_1_anzahl=0&amp\;wss_1_sort=asc---Kurs%2
 0Titel~~asc---Kursdauer%20von~~asc---Kurs%20Uhrzeit%20von&amp\;wss_1_grupp
 ierung=asc---Kurs%20Titel" target="_blank" title="Öffnet Link in neuem Fe
 nster">Online-Akademie</a><strong>. Bei hybriden Terminen zusätzlich verb
 indliche Vorabanmeldung per E-Mail an <a href="mailto:c.baust@klinikverbun
 d-suedwest.de">c.baust@klinikverbund-suedwest.de</a> </strong></p> 	<p><st
 rong>Extern:</strong><br /> 	Anmeldung über das KVSW Bildungszentrum:<br 
 /> 	Frau Christina Baust<br /> 	KVSW Bildungszentrum<br /> 	<a href="https
 ://www.klinikverbund-suedwest.de/der-klinikverbund-suedwest/veranstaltunge
 n/detail/2-neonatologie-pflegesymposium/">c.baust@klinikverbund-suedwest.d
 e</a></p> 	</li> </ul>
LOCATION:Kliniken Böblingen
END:VEVENT
END:VCALENDAR
