BEGIN:VCALENDAR
VERSION:2.0
PRODID:-//TYPO3/NONSGML Calendarize//EN
BEGIN:VEVENT
UID:calendarize-medizin-erleben-blutarmut-und-erkrankungen-des-magen-darm-
 trakts-wie-haengt-das-zusammen
DTSTAMP:20260425T110655Z
DTSTART:20261208T170000Z
DTEND:20261207T230000Z
SUMMARY:Medizin erleben: Blutarmut und Erkrankungen des Magen-Darm-Trakts 
 – wie hängt das zusammen?
DESCRIPTION:Im Rahmen der kostenfreien Vortragsreihe bieten Ihnen die Klin
 iken Nagold die Möglichkeit\, sich umfassend über medizinische Themen so
 wie neue Therapieverfahren und Vorsorgemöglichkeiten zu informieren. Im A
 nschluss an jeden Vortrag haben Sie die Gelegenheit\, Fragen zu stellen.\n
 \nBlutarmut und Erkrankungen des Magen-Darm-Trakts – wie hängt das zusa
 mmen?\n Vortragstermin: Dienstag 08.12.2026\, 18.00 Uhr Klinken Nagold Rö
 ntgenstr. 20\, 72202 Nagold\nReferent:\n 	Chefarzt Prof. Dr. med. Hubert M
 örk 	Zentrum für Gastroenterologie/Onkologie Nagold-Herrenberg \n Kontak
 t: Frau Janine Kiefel Sekretariat Krankenhausdirektion 07452 96-73301 j.k
 iefel@klinikverbund-suedwest.de\nEs ist keine Anmeldung erforderlich.  Da
 s Parken während den Veranstaltungen ist kostenlos.
X-ALT-DESC;FMTTYPE=text/html:<p>Im Rahmen der kostenfreien Vortragsreihe b
 ieten Ihnen die Kliniken Nagold die Möglichkeit\, sich umfassend über me
 dizinische Themen sowie neue Therapieverfahren und Vorsorgemöglichkeiten 
 zu informieren. Im Anschluss an jeden Vortrag haben Sie die Gelegenheit\, 
 Fragen zu stellen.</p>\n\n<h4><strong>Blutarmut und Erkrankungen des Magen
 -Darm-Trakts – wie hängt das zusammen?</strong></h4>\n<p><br /> <strong
 >Vortragstermin:</strong><br /> Dienstag 08.12.2026\, 18.00 Uhr<br /> Klin
 ken Nagold<br /> Röntgenstr. 20\, 72202 Nagold</p>\n<p><strong>Referent:<
 /strong></p>\n<ul> 	<li>Chefarzt Prof. Dr. med. Hubert Mörk<br /> 	Zentru
 m für Gastroenterologie/Onkologie Nagold-Herrenberg</li> </ul>\n<p><br />
  <strong>Kontakt:</strong><br /> Frau&nbsp\;Janine Kiefel<br /> Sekretaria
 t Krankenhausdirektion<br /> <a class="icon-tel" href="tel:074529673301">0
 7452 96-73301</a><br /> <a class="icon-mail" href="mailto:j.kiefel@klinikv
 erbund-suedwest.de">j.kiefel@klinikverbund-suedwest.de</a></p>\n<p><strong
 >Es ist keine Anmeldung erforderlich.&nbsp\;</strong><br /> Das Parken wä
 hrend den Veranstaltungen ist kostenlos.</p>
LOCATION:
END:VEVENT
END:VCALENDAR
