BEGIN:VCALENDAR
VERSION:2.0
PRODID:-//TYPO3/NONSGML Calendarize//EN
BEGIN:VEVENT
UID:calendarize-medizin-erleben-darmkrebs-erkennen-und-behandeln-je-fruehe
 r-desto-besser
DTSTAMP:20260425T122111Z
DTSTART:20260922T160000Z
DTEND:20260921T220000Z
SUMMARY:Medizin erleben: Darmkrebs erkennen und behandeln – je früher\,
  desto besser
DESCRIPTION:Im Rahmen der kostenfreien Vortragsreihe bieten Ihnen die Klin
 iken Nagold die Möglichkeit\, sich umfassend über medizinische Themen so
 wie neue Therapieverfahren und Vorsorgemöglichkeiten zu informieren. Im A
 nschluss an jeden Vortrag haben Sie die Gelegenheit\, Fragen zu stellen.\n
 \nDarmkrebs erkennen und behandeln – je früher\, desto besser\n Vortrag
 stermin: Dienstag 22.09.2026\, 18.00 Uhr Klinken Nagold Röntgenstr. 20\, 
 72202 Nagold\nReferenten:\n 	Oberarzt Dr. Pascal Argast 	Chefarzt Prof. Dr
 . Daniel Kauff 	Klinik für Allgemein-\, Viszeral- und Gefäßchirurgie mi
 t Unfallchirurgie \n Kontakt: Frau Janine Kiefel Sekretariat Krankenhausd
 irektion 07452 96-73301 j.kiefel@klinikverbund-suedwest.de\nEs ist keine A
 nmeldung erforderlich.  Das Parken während den Veranstaltungen ist koste
 nlos.
X-ALT-DESC;FMTTYPE=text/html:<p>Im Rahmen der kostenfreien Vortragsreihe b
 ieten Ihnen die Kliniken Nagold die Möglichkeit\, sich umfassend über me
 dizinische Themen sowie neue Therapieverfahren und Vorsorgemöglichkeiten 
 zu informieren. Im Anschluss an jeden Vortrag haben Sie die Gelegenheit\, 
 Fragen zu stellen.</p>\n\n<h4><strong>Darmkrebs erkennen und behandeln –
  je früher\, desto besser</strong></h4>\n<p><br /> <strong>Vortragstermin
 :</strong><br /> Dienstag 22.09.2026\, 18.00 Uhr<br /> Klinken Nagold<br /
 > Röntgenstr. 20\, 72202 Nagold</p>\n<p><strong>Referenten:</strong></p>\
 n<ul> 	<li>Oberarzt Dr. Pascal Argast</li> 	<li>Chefarzt Prof. Dr. Daniel 
 Kauff<br /> 	Klinik für Allgemein-\, Viszeral- und Gefäßchirurgie mit U
 nfallchirurgie</li> </ul>\n<p><br /> <strong>Kontakt:</strong><br /> Frau&
 nbsp\;Janine Kiefel<br /> Sekretariat Krankenhausdirektion<br /> <a class=
 "icon-tel" href="tel:074529673301">07452 96-73301</a><br /> <a class="icon
 -mail" href="mailto:j.kiefel@klinikverbund-suedwest.de">j.kiefel@klinikver
 bund-suedwest.de</a></p>\n<p><strong>Es ist keine Anmeldung erforderlich.&
 nbsp\;</strong><br /> Das Parken während den Veranstaltungen ist kostenlo
 s.</p>
LOCATION:
END:VEVENT
END:VCALENDAR
