BEGIN:VCALENDAR
VERSION:2.0
PRODID:-//TYPO3/NONSGML Calendarize//EN
BEGIN:VEVENT
UID:calendarize-medizin-erleben-fitness-eine-frage-des-alters
DTSTAMP:20260425T035020Z
DTSTART:20260707T160000Z
DTEND:20260706T220000Z
SUMMARY:Medizin erleben: Fitness – eine Frage des Alters? 
DESCRIPTION:Im Rahmen der kostenfreien Vortragsreihe bieten Ihnen die Klin
 iken Nagold die Möglichkeit\, sich umfassend über medizinische Themen so
 wie neue Therapieverfahren und Vorsorgemöglichkeiten zu informieren. Im A
 nschluss an jeden Vortrag haben Sie die Gelegenheit\, Fragen zu stellen.\n
 \nFitness – eine Frage des Alters? Fitness – keine Frage des Alters!\n
  Vortragstermin: Dienstag 07.07.2026\, 18.00 Uhr Klinken Nagold Röntgenst
 r. 20\, 72202 Nagold\nReferent:\n 	Dr. med. Petra Wacker 	Oberärztin Zent
 rum für Geriatrie\, Standortleitung Nagold \n Kontakt: Frau Janine Kiefe
 l Sekretariat Krankenhausdirektion 07452 96-73301 j.kiefel@klinikverbund-s
 uedwest.de\nEs ist keine Anmeldung erforderlich.  Das Parken während den
  Veranstaltungen ist kostenlos.
X-ALT-DESC;FMTTYPE=text/html:<p>Im Rahmen der kostenfreien Vortragsreihe b
 ieten Ihnen die Kliniken Nagold die Möglichkeit\, sich umfassend über me
 dizinische Themen sowie neue Therapieverfahren und Vorsorgemöglichkeiten 
 zu informieren. Im Anschluss an jeden Vortrag haben Sie die Gelegenheit\, 
 Fragen zu stellen.</p>\n\n<h4><strong>Fitness – eine Frage des Alters?<b
 r /> Fitness – keine Frage des Alters!</strong></h4>\n<p><br /> <strong>
 Vortragstermin:</strong><br /> Dienstag 07.07.2026\, 18.00 Uhr<br /> Klink
 en Nagold<br /> Röntgenstr. 20\, 72202 Nagold</p>\n<p><strong>Referent:</
 strong></p>\n<ul> 	<li>Dr. med. Petra Wacker<br /> 	Oberärztin Zentrum fü
 r Geriatrie\, Standortleitung Nagold</li> </ul>\n<p><br /> <strong>Kontakt
 :</strong><br /> Frau&nbsp\;Janine Kiefel<br /> Sekretariat Krankenhausdir
 ektion<br /> <a class="icon-tel" href="tel:074529673301">07452 96-73301</a
 ><br /> <a class="icon-mail" href="mailto:j.kiefel@klinikverbund-suedwest.
 de">j.kiefel@klinikverbund-suedwest.de</a></p>\n<p><strong>Es ist keine An
 meldung erforderlich.&nbsp\;</strong><br /> Das Parken während den Verans
 taltungen ist kostenlos.</p>
LOCATION:
END:VEVENT
END:VCALENDAR
