BEGIN:VCALENDAR
VERSION:2.0
PRODID:-//TYPO3/NONSGML Calendarize//EN
BEGIN:VEVENT
UID:calendarize-medizin-erleben-inkontinenz
DTSTAMP:20260425T223515Z
DTSTART:20250626T160000Z
DTEND:20250625T220000Z
SUMMARY:Weltkontinenzwoche: Inkontinenz
DESCRIPTION:Im Rahmen der kostenfreien Vortragsreihe bieten Ihnen die Klin
 iken Nagold die Möglichkeit\, sich umfassend über medizinische Themen so
 wie neue Therapieverfahren und Vorsorgemöglichkeiten zu informieren. Im A
 nschluss an jeden Vortrag haben Sie die Gelegenheit\, Fragen zu stellen.\n
 Inkontinenzabend – im Rahmen der World Continence Week Harn- und Stuhlin
 kontinenz\nWas läuft beim Mann anders? Referentin:  OÄ Dr. Melanie Nieme
 yer\, Klinik für Urologie zert. Kontinenz- und Beckenbodenzentrum Calw-Na
 gold\nWenn der Verschluss langsam undicht wird – Strategien gegen die H
 arninkontinenz Referentin: CÄ Dr. Ines Vogel\, Klinik für Frauenheilkund
 e und Geburtshilfe Krankenhaus Herrenberg\n Vortragstermin: Donnerstag 26.
 06.2025\, 18.00 Uhr Klinken Nagold Röntgenstr. 20\, 72202 Nagold\n Kontak
 t: Frau Janine Kiefel Sekretariat Krankenhausdirektion 07452 96-73301 j.k
 iefel@klinikverbund-suedwest.de\nEs ist keine Anmeldung erforderlich. 
X-ALT-DESC;FMTTYPE=text/html:<p>Im Rahmen der kostenfreien Vortragsreihe b
 ieten Ihnen die Kliniken Nagold die Möglichkeit\, sich umfassend über me
 dizinische Themen sowie neue Therapieverfahren und Vorsorgemöglichkeiten 
 zu informieren. Im Anschluss an jeden Vortrag haben Sie die Gelegenheit\, 
 Fragen zu stellen.</p>\n<p><strong>Inkontinenzabend – im Rahmen der Worl
 d Continence Week<br /> Harn- und Stuhlinkontinenz</strong></p>\n<p><stron
 g>Was läuft beim Mann anders?</strong><br /> <strong>Referentin: </strong
 ><br /> OÄ Dr. Melanie Niemeyer\, Klinik für Urologie<br /> zert. Kontin
 enz- und Beckenbodenzentrum Calw-Nagold</p>\n<p><strong>Wenn der Verschlus
 s langsam undicht wird –&nbsp\;Strategien gegen die Harninkontinenz</str
 ong><br /> <strong>Referentin:</strong><br /> CÄ Dr. Ines Vogel\, Klinik 
 für Frauenheilkunde und Geburtshilfe<br /> Krankenhaus Herrenberg</p>\n<p
 ><br /> <strong>Vortragstermin:</strong><br /> Donnerstag 26.06.2025\, 18.
 00 Uhr<br /> Klinken Nagold<br /> Röntgenstr. 20\, 72202 Nagold</p>\n<p><
 br /> <strong>Kontakt:</strong><br /> Frau&nbsp\;Janine Kiefel<br /> Sekre
 tariat Krankenhausdirektion<br /> <a class="icon-tel" href="tel:0745296733
 01">07452 96-73301</a><br /> <a class="icon-mail" href="mailto:j.kiefel@kl
 inikverbund-suedwest.de">j.kiefel@klinikverbund-suedwest.de</a></p>\n<p><s
 trong>Es ist keine Anmeldung erforderlich.&nbsp\;</strong></p>
LOCATION:
END:VEVENT
END:VCALENDAR
