BEGIN:VCALENDAR
VERSION:2.0
PRODID:-//TYPO3/NONSGML Calendarize//EN
BEGIN:VEVENT
UID:calendarize-medizin-erleben-prostatavergroesserung-was-tun-wenns-nicht
 -mehr-laeuft
DTSTAMP:20260425T014551Z
DTSTART:20260505T160000Z
DTEND:20260504T220000Z
SUMMARY:Medizin erleben: Prostatavergrößerung– was tun\, wenn's nicht 
 mehr läuft
DESCRIPTION:Im Rahmen der kostenfreien Vortragsreihe bieten Ihnen die Klin
 iken Nagold die Möglichkeit\, sich umfassend über medizinische Themen so
 wie neue Therapieverfahren und Vorsorgemöglichkeiten zu informieren. Im A
 nschluss an jeden Vortrag haben Sie die Gelegenheit\, Fragen zu stellen.\n
 \nProstatavergrößerung– was tun\, wenn‘s nicht mehr läuft\n Vortrag
 stermin: Dienstag 05.05.2026\, 18.00 Uhr Klinken Nagold Röntgenstr. 20\, 
 72202 Nagold\nReferent:\n 	Chefarzt Dr. med. Ulrich Haag 	Klinik für Urol
 ogie \n Kontakt: Frau Janine Kiefel Sekretariat Krankenhausdirektion 0745
 2 96-73301 j.kiefel@klinikverbund-suedwest.de\nEs ist keine Anmeldung erfo
 rderlich.  Das Parken während den Veranstaltungen ist kostenlos.
X-ALT-DESC;FMTTYPE=text/html:<p>Im Rahmen der kostenfreien Vortragsreihe b
 ieten Ihnen die Kliniken Nagold die Möglichkeit\, sich umfassend über me
 dizinische Themen sowie neue Therapieverfahren und Vorsorgemöglichkeiten 
 zu informieren. Im Anschluss an jeden Vortrag haben Sie die Gelegenheit\, 
 Fragen zu stellen.</p>\n\n<h4><strong>Prostatavergrößerung– was tun\, 
 wenn‘s nicht mehr läuft</strong></h4>\n<p><br /> <strong>Vortragstermin
 :</strong><br /> Dienstag 05.05.2026\, 18.00 Uhr<br /> Klinken Nagold<br /
 > Röntgenstr. 20\, 72202 Nagold</p>\n<p><strong>Referent:</strong></p>\n<
 ul> 	<li>Chefarzt Dr. med. Ulrich Haag<br /> 	Klinik für Urologie</li> </
 ul>\n<p><br /> <strong>Kontakt:</strong><br /> Frau&nbsp\;Janine Kiefel<br
  /> Sekretariat Krankenhausdirektion<br /> <a class="icon-tel" href="tel:0
 74529673301">07452 96-73301</a><br /> <a class="icon-mail" href="mailto:j.
 kiefel@klinikverbund-suedwest.de">j.kiefel@klinikverbund-suedwest.de</a></
 p>\n<p><strong>Es ist keine Anmeldung erforderlich.&nbsp\;</strong><br /> 
 Das Parken während den Veranstaltungen ist kostenlos.</p>
LOCATION:
END:VEVENT
END:VCALENDAR
