BEGIN:VCALENDAR
VERSION:2.0
PRODID:-//TYPO3/NONSGML Calendarize//EN
BEGIN:VEVENT
UID:calendarize-medizin-erleben-reflux-wenn-sodbrennen-krank-macht
DTSTAMP:20260425T034318Z
DTSTART:20260421T160000Z
DTEND:20260420T220000Z
SUMMARY:Medizin erleben: Reflux – wenn Sodbrennen krank macht
DESCRIPTION:Im Rahmen der kostenfreien Vortragsreihe bieten Ihnen die Klin
 iken Nagold die Möglichkeit\, sich umfassend über medizinische Themen so
 wie neue Therapieverfahren und Vorsorgemöglichkeiten zu informieren. Im A
 nschluss an jeden Vortrag haben Sie die Gelegenheit\, Fragen zu stellen.\n
 \nReflux – wenn Sodbrennen krank macht\n Vortragstermin: Dienstag 21.04.
 2026\, 18.00 Uhr Klinken Nagold Röntgenstr. 20\, 72202 Nagold\nReferent:\
 n 	Dr. med. Sherif Aly 	Ltd. Oberarzt der Klinik für Allgemein-\, Viszera
 l- und Gefäßchirurgie mit Unfallchirurgie \n Kontakt: Frau Janine Kiefe
 l Sekretariat Krankenhausdirektion 07452 96-73301 j.kiefel@klinikverbund-s
 uedwest.de\nEs ist keine Anmeldung erforderlich.  Das Parken während den
  Veranstaltungen ist kostenlos.
X-ALT-DESC;FMTTYPE=text/html:<p>Im Rahmen der kostenfreien Vortragsreihe b
 ieten Ihnen die Kliniken Nagold die Möglichkeit\, sich umfassend über me
 dizinische Themen sowie neue Therapieverfahren und Vorsorgemöglichkeiten 
 zu informieren. Im Anschluss an jeden Vortrag haben Sie die Gelegenheit\, 
 Fragen zu stellen.</p>\n\n<h4><strong>Reflux – wenn Sodbrennen krank mac
 ht</strong></h4>\n<p><br /> <strong>Vortragstermin:</strong><br /> Diensta
 g 21.04.2026\, 18.00 Uhr<br /> Klinken Nagold<br /> Röntgenstr. 20\, 7220
 2 Nagold</p>\n<p><strong>Referent:</strong></p>\n<ul> 	<li>Dr. med. Sherif
  Aly<br /> 	Ltd. Oberarzt der Klinik für Allgemein-\, Viszeral- und Gefä
 ßchirurgie mit Unfallchirurgie</li> </ul>\n<p><br /> <strong>Kontakt:</st
 rong><br /> Frau&nbsp\;Janine Kiefel<br /> Sekretariat Krankenhausdirektio
 n<br /> <a class="icon-tel" href="tel:074529673301">07452 96-73301</a><br 
 /> <a class="icon-mail" href="mailto:j.kiefel@klinikverbund-suedwest.de">j
 .kiefel@klinikverbund-suedwest.de</a></p>\n<p><strong>Es ist keine Anmeldu
 ng erforderlich.&nbsp\;</strong><br /> Das Parken während den Veranstaltu
 ngen ist kostenlos.</p>
LOCATION:
END:VEVENT
END:VCALENDAR
