BEGIN:VCALENDAR
VERSION:2.0
PRODID:-//TYPO3/NONSGML Calendarize//EN
BEGIN:VEVENT
UID:calendarize-medizin-erleben-schmerz-und-cannabis-1
DTSTAMP:20260425T191232Z
DTSTART:20250605T160000Z
DTEND:20250604T220000Z
SUMMARY:Medizin erleben: Schmerz und Cannabis
DESCRIPTION:Im Rahmen der kostenfreien Vortragsreihe bieten Ihnen die Klin
 iken Nagold die Möglichkeit\, sich umfassend über medizinische Themen so
 wie neue Therapieverfahren und Vorsorgemöglichkeiten zu informieren. Im A
 nschluss an jeden Vortrag haben Sie die Gelegenheit\, Fragen zu stellen.\n
 \nSchmerz und Cannabis\n Vortragstermin: Donnerstag 05.06.2025\, 18.00 Uhr
  Klinken Nagold Röntgenstr. 20\, 72202 Nagold\nReferent:\n 	Dr. Edgar Bau
 derer 	Ärztlicher Leiter Schmerztherapie in der Klinik für Anästhesie u
 nd Intensivmedizin Calw \n Kontakt: Frau Janine Kiefel Sekretariat Krank
 enhausdirektion 07452 96-73301 j.kiefel@klinikverbund-suedwest.de\nEs ist 
 keine Anmeldung erforderlich. 
X-ALT-DESC;FMTTYPE=text/html:<p>Im Rahmen der kostenfreien Vortragsreihe b
 ieten Ihnen die Kliniken Nagold die Möglichkeit\, sich umfassend über me
 dizinische Themen sowie neue Therapieverfahren und Vorsorgemöglichkeiten 
 zu informieren. Im Anschluss an jeden Vortrag haben Sie die Gelegenheit\, 
 Fragen zu stellen.</p>\n\n<h4><strong>Schmerz und Cannabis</strong></h4>\n
 <p><br /> <strong>Vortragstermin:</strong><br /> Donnerstag 05.06.2025\, 1
 8.00 Uhr<br /> Klinken Nagold<br /> Röntgenstr. 20\, 72202 Nagold</p>\n<p
 ><strong>Referent:</strong></p>\n<ul> 	<li>Dr. Edgar Bauderer<br /> 	Ärzt
 licher Leiter Schmerztherapie in der Klinik für Anästhesie und Intensivm
 edizin&nbsp\;Calw</li> </ul>\n<p><br /> <strong>Kontakt:</strong><br /> Fr
 au&nbsp\;Janine Kiefel<br /> Sekretariat Krankenhausdirektion<br /> <a cla
 ss="icon-tel" href="tel:074529673301">07452 96-73301</a><br /> <a class="i
 con-mail" href="mailto:j.kiefel@klinikverbund-suedwest.de">j.kiefel@klinik
 verbund-suedwest.de</a></p>\n<p><strong>Es ist keine Anmeldung erforderlic
 h.&nbsp\;</strong></p>
LOCATION:
END:VEVENT
END:VCALENDAR
