BEGIN:VCALENDAR
VERSION:2.0
PRODID:-//TYPO3/NONSGML Calendarize//EN
BEGIN:VEVENT
UID:calendarize-medizin-fuer-sie-aortenaneurysma-eine-tickende-zeitbombe
DTSTAMP:20260425T034424Z
DTSTART:20260416T170000Z
DTEND:20260415T220000Z
SUMMARY:Medizin für Sie: Aortenaneurysma – eine tickende Zeitbombe?
DESCRIPTION:Im Rahmen der kostenfreien Vortragsreihe stellen Chef- und Obe
 rärzte aus unterschiedlichen Fachbereichen des Klinikums Sindelfingen-Bö
 blingen moderne Behandlungskonzepte vor. Die Mediziner präsentieren neue 
 Erkenntnisse aus der Medizinforschung\, geben Hintergrundwissen zu Diagnos
 tik und Therapie sowie wertvolle Tipps zur Vorbeugung und Vorsorge. Im Ans
 chluss an die einzelnen Vorträge besteht ausreichend Möglichkeit\, indiv
 iduelle Fragen zum Thema zu stellen.\n\nAortenaneurysma – eine tickende 
 Zeitbombe?\n Vortragstermin: Donnerstag 16.04.2026\, 19.00 Uhr Klinken Bö
 blingen Bunsenstraße 120\, 71032 Böblingen\nReferent:\n 	Chefarzt Dr. Dr
 . Viktor Reichert 	Klinik für Gefäßchirurgie\, Vaskuläre und Endovasku
 läre Chirurgie Leonberg-Sindelfingen \n Kontakt: Sekretariat Krankenhausd
 irektion Klinikum Sindelfingen-Böblingen 07031 668-21032\nEs ist keine An
 meldung erforderlich. 
X-ALT-DESC;FMTTYPE=text/html:<p>Im Rahmen der kostenfreien Vortragsreihe s
 tellen Chef- und Oberärzte aus unterschiedlichen Fachbereichen des Klinik
 ums Sindelfingen-Böblingen moderne Behandlungskonzepte<br /> vor. Die Med
 iziner präsentieren neue Erkenntnisse aus der Medizinforschung\, geben Hi
 ntergrundwissen zu Diagnostik und Therapie sowie wertvolle Tipps zur Vorbe
 ugung und Vorsorge. Im Anschluss an die einzelnen Vorträge besteht ausrei
 chend Möglichkeit\, individuelle Fragen zum Thema zu stellen.</p>\n\n<h4>
 <strong>Aortenaneurysma – eine tickende Zeitbombe?</strong></h4>\n<p><br
  /> <strong>Vortragstermin:</strong><br /> Donnerstag 16.04.2026\, 19.00 U
 hr<br /> Klinken Böblingen<br /> Bunsenstraße 120\, 71032 Böblingen</p>
 \n<p><strong>Referent:</strong></p>\n<ul> 	<li>Chefarzt Dr. Dr. Viktor Rei
 chert<br /> 	Klinik für Gefäßchirurgie\, Vaskuläre und Endovaskuläre 
 Chirurgie Leonberg-Sindelfingen</li> </ul>\n<p><br /> <strong>Kontakt:</st
 rong><br /> Sekretariat Krankenhausdirektion<br /> Klinikum Sindelfingen-B
 öblingen<br /> <a class="icon-tel" href="tel:0703166821032">07031 668-210
 32</a></p>\n<p><strong>Es ist keine Anmeldung erforderlich.&nbsp\;</strong
 ></p>
LOCATION:
END:VEVENT
END:VCALENDAR
