BEGIN:VCALENDAR
VERSION:2.0
PRODID:-//TYPO3/NONSGML Calendarize//EN
BEGIN:VEVENT
UID:calendarize-medizin-fuer-sie-die-haeufigsten-laeuferverletzungen
DTSTAMP:20260425T110521Z
DTSTART:20261112T180000Z
DTEND:20261111T230000Z
SUMMARY:Medizin für Sie: Die häufigsten Läuferverletzungen
DESCRIPTION:Im Rahmen der kostenfreien Vortragsreihe stellen Chef- und Obe
 rärzte aus unterschiedlichen Fachbereichen des Klinikums Sindelfingen-Bö
 blingen moderne Behandlungskonzepte vor. Die Mediziner präsentieren neue 
 Erkenntnisse aus der Medizinforschung\, geben Hintergrundwissen zu Diagnos
 tik und Therapie sowie wertvolle Tipps zur Vorbeugung und Vorsorge. Im Ans
 chluss an die einzelnen Vorträge besteht ausreichend Möglichkeit\, indiv
 iduelle Fragen zum Thema zu stellen.\n\nDie häufigsten Läuferverletzunge
 n\n Vortragstermin: Donnerstag 12.11.2026\, 19.00 Uhr Klinken Böblingen B
 unsenstraße 120\, 71032 Böblingen\nReferentin:\n 	Oberärztin Dr. Stepha
 nie Storz 	Klinik für Unfallchirurgie\, Sindelfingen \n Kontakt: Sekretar
 iat Krankenhausdirektion Klinikum Sindelfingen-Böblingen 07031 668-21032\
 nEs ist keine Anmeldung erforderlich. 
X-ALT-DESC;FMTTYPE=text/html:<p>Im Rahmen der kostenfreien Vortragsreihe s
 tellen Chef- und Oberärzte aus unterschiedlichen Fachbereichen des Klinik
 ums Sindelfingen-Böblingen moderne Behandlungskonzepte<br /> vor. Die Med
 iziner präsentieren neue Erkenntnisse aus der Medizinforschung\, geben Hi
 ntergrundwissen zu Diagnostik und Therapie sowie wertvolle Tipps zur Vorbe
 ugung und Vorsorge. Im Anschluss an die einzelnen Vorträge besteht ausrei
 chend Möglichkeit\, individuelle Fragen zum Thema zu stellen.</p>\n\n<h4>
 <strong>Die häufigsten Läuferverletzungen</strong></h4>\n<p><br /> <stro
 ng>Vortragstermin:</strong><br /> Donnerstag 12.11.2026\, 19.00 Uhr<br /> 
 Klinken Böblingen<br /> Bunsenstraße 120\, 71032 Böblingen</p>\n<p><str
 ong>Referentin:</strong></p>\n<ul> 	<li>Oberärztin Dr. Stephanie Storz<br
  /> 	Klinik für Unfallchirurgie\, Sindelfingen</li> </ul>\n<p><br /> <str
 ong>Kontakt:</strong><br /> Sekretariat Krankenhausdirektion<br /> Kliniku
 m Sindelfingen-Böblingen<br /> <a class="icon-tel" href="tel:070316682103
 2">07031 668-21032</a></p>\n<p><strong>Es ist keine Anmeldung erforderlich
 .&nbsp\;</strong></p>
LOCATION:
END:VEVENT
END:VCALENDAR
