BEGIN:VCALENDAR
VERSION:2.0
PRODID:-//TYPO3/NONSGML Calendarize//EN
BEGIN:VEVENT
UID:calendarize-medizin-fuer-sie-harn-und-stuhlinkontinenz
DTSTAMP:20260425T211714Z
DTSTART:20250618T150000Z
DTEND:20250617T220000Z
SUMMARY:Weltkontinenzwoche: Harn- und Stuhlinkontinenz
DESCRIPTION:Im Rahmen der kostenfreien Vortragsreihe stellen Chefärzte au
 s unterschiedlichen Fachbereichen des Klinikums Sindelfingen-Böblingen mo
 derne Behandlungskonzepte vor. Die Mediziner präsentieren neue Erkenntnis
 se aus der Medizinforschung\, geben Hintergrundwissen zu Diagnostik und Th
 erapie sowie wertvolle Tipps zur Vorbeugung und Vorsorge. Im Anschluss an 
 die einzelnen Vorträge besteht ausreichend Möglichkeit\, individuelle Fr
 agen zum Thema zu stellen.\nInkontinenzabend – im Rahmen der World Conti
 nence Week Harn- und Stuhlinkontinenz\nMit Frauenpower gegen Harn- und Stu
 hl-Inkontinenz Referentin:  Fachärztin Monika Hörner\, Klinik für Fraue
 nheilkunde und Geburtshilfe\, zertifizierte Beratungsstelle der Deutschen 
 Kontinenzgesellschaft\, interdisziplinäres Beckenboden- und Kontinenzzent
 rum\nDie Neurogene Blasenstörung (neurodegenerativ) im Alter Referent: Ch
 efarzt Dr. Mimoun Azizi\, Zentrum für Geriatrie/Altersmedizin\nOperative 
 Kontinenztherapie – was steckt dahinter? Referent: Oberarzt Johannes Dlu
 gosch\, Urologische Klinik Sindelfingen (UKS)\n Vortragstermin: Mittwoch 1
 8.06.2025\, 17.00 Uhr Klinken Böblingen Bunsenstraße 120\, 71032 Böblin
 gen\n Kontakt: Christiane Stein Sekretariat Krankenhausdirektion Klinikum 
 Sindelfingen-Böblingen 07031 668-21032\nEs ist keine Anmeldung erforderli
 ch. 
X-ALT-DESC;FMTTYPE=text/html:<p>Im Rahmen der kostenfreien Vortragsreihe s
 tellen Chefärzte aus unterschiedlichen Fachbereichen des Klinikums Sindel
 fingen-Böblingen moderne Behandlungskonzepte vor. Die Mediziner präsenti
 eren neue Erkenntnisse aus der Medizinforschung\, geben Hintergrundwissen 
 zu Diagnostik und Therapie sowie wertvolle Tipps zur Vorbeugung und Vorsor
 ge. Im Anschluss an die einzelnen Vorträge besteht ausreichend Möglichke
 it\, individuelle Fragen zum Thema zu stellen.</p>\n<p><strong>Inkontinenz
 abend – im Rahmen der World Continence Week<br /> Harn- und Stuhlinkonti
 nenz</strong></p>\n<p><strong>Mit Frauenpower gegen Harn- und Stuhl-Inkont
 inenz</strong><br /> <strong>Referentin: </strong><br /> Fachärztin Monik
 a Hörner\, Klinik für Frauenheilkunde und Geburtshilfe\, zertifizierte B
 eratungsstelle der Deutschen Kontinenzgesellschaft\, interdisziplinäres B
 eckenboden- und Kontinenzzentrum</p>\n<p><strong>Die Neurogene Blasenstör
 ung (neurodegenerativ) im Alter</strong><br /> <strong>Referent:</strong><
 br /> Chefarzt Dr. Mimoun Azizi\, Zentrum für Geriatrie/Altersmedizin</p>
 \n<p><strong>Operative Kontinenztherapie – was steckt dahinter?</strong>
 <br /> <strong>Referent:</strong><br /> Oberarzt Johannes Dlugosch\, Urolo
 gische Klinik Sindelfingen (UKS)</p>\n<p><br /> <strong>Vortragstermin:</s
 trong><br /> Mittwoch 18.06.2025\, 17.00 Uhr<br /> Klinken Böblingen<br /
 > Bunsenstraße 120\, 71032 Böblingen</p>\n<p><br /> <strong>Kontakt:</st
 rong><br /> Christiane Stein<br /> Sekretariat Krankenhausdirektion<br /> 
 Klinikum Sindelfingen-Böblingen<br /> <a class="icon-tel" href="tel:07031
 66821032">07031 668-21032</a></p>\n<p><strong>Es ist keine Anmeldung erfor
 derlich.&nbsp\;</strong></p>
LOCATION:Böblingen
END:VEVENT
END:VCALENDAR
