BEGIN:VCALENDAR
VERSION:2.0
PRODID:-//TYPO3/NONSGML Calendarize//EN
BEGIN:VEVENT
UID:calendarize-medizin-fuer-sie-osteoporosebedingte-knochenbrueche
DTSTAMP:20260425T014903Z
DTSTART:20260430T170000Z
DTEND:20260429T220000Z
SUMMARY:Medizin für Sie: Osteoporosebedingte Knochenbrüche
DESCRIPTION:Im Rahmen der kostenfreien Vortragsreihe stellen Chef- und Obe
 rärzte aus unterschiedlichen Fachbereichen des Klinikums Sindelfingen-Bö
 blingen moderne Behandlungskonzepte vor. Die Mediziner präsentieren neue 
 Erkenntnisse aus der Medizinforschung\, geben Hintergrundwissen zu Diagnos
 tik und Therapie sowie wertvolle Tipps zur Vorbeugung und Vorsorge. Im Ans
 chluss an die einzelnen Vorträge besteht ausreichend Möglichkeit\, indiv
 iduelle Fragen zum Thema zu stellen.\n\nOsteoporosebedingte Knochenbrüche
 \n Vortragstermin: Donnerstag 30.04.2026\, 19.00 Uhr Klinken Böblingen Bu
 nsenstraße 120\, 71032 Böblingen\nReferent:\n 	Ltd. Oberarzt Dr. Marc Ch
 mielnicki 	Klinik für Unfallchirurgie\, Sindelfingen \n Kontakt: Sekretar
 iat Krankenhausdirektion Klinikum Sindelfingen-Böblingen 07031 668-21032\
 nEs ist keine Anmeldung erforderlich. 
X-ALT-DESC;FMTTYPE=text/html:<p>Im Rahmen der kostenfreien Vortragsreihe s
 tellen Chef- und Oberärzte aus unterschiedlichen Fachbereichen des Klinik
 ums Sindelfingen-Böblingen moderne Behandlungskonzepte<br /> vor. Die Med
 iziner präsentieren neue Erkenntnisse aus der Medizinforschung\, geben Hi
 ntergrundwissen zu Diagnostik und Therapie sowie wertvolle Tipps zur Vorbe
 ugung und Vorsorge. Im Anschluss an die einzelnen Vorträge besteht ausrei
 chend Möglichkeit\, individuelle Fragen zum Thema zu stellen.</p>\n\n<h4>
 <strong>Osteoporosebedingte Knochenbrüche</strong></h4>\n<p><br /> <stron
 g>Vortragstermin:</strong><br /> Donnerstag 30.04.2026\, 19.00 Uhr<br /> K
 linken Böblingen<br /> Bunsenstraße 120\, 71032 Böblingen</p>\n<p><stro
 ng>Referent:</strong></p>\n<ul> 	<li>Ltd. Oberarzt Dr. Marc Chmielnicki<br
  /> 	Klinik für Unfallchirurgie\, Sindelfingen</li> </ul>\n<p><br /> <str
 ong>Kontakt:</strong><br /> Sekretariat Krankenhausdirektion<br /> Kliniku
 m Sindelfingen-Böblingen<br /> <a class="icon-tel" href="tel:070316682103
 2">07031 668-21032</a></p>\n<p><strong>Es ist keine Anmeldung erforderlich
 .&nbsp\;</strong></p>
LOCATION:
END:VEVENT
END:VCALENDAR
