BEGIN:VCALENDAR
VERSION:2.0
PRODID:-//TYPO3/NONSGML Calendarize//EN
BEGIN:VEVENT
UID:calendarize-medizin-fuer-sie-starke-knochen-im-alter-osteoporose-vorbe
 ugen
DTSTAMP:20260425T034549Z
DTSTART:20260618T170000Z
DTEND:20260617T220000Z
SUMMARY:Medizin für Sie: Starke Knochen im Alter: Osteoporose vorbeugen
DESCRIPTION:Im Rahmen der kostenfreien Vortragsreihe stellen Chef- und Obe
 rärzte aus unterschiedlichen Fachbereichen des Klinikums Sindelfingen-Bö
 blingen moderne Behandlungskonzepte vor. Die Mediziner präsentieren neue 
 Erkenntnisse aus der Medizinforschung\, geben Hintergrundwissen zu Diagnos
 tik und Therapie sowie wertvolle Tipps zur Vorbeugung und Vorsorge. Im Ans
 chluss an die einzelnen Vorträge besteht ausreichend Möglichkeit\, indiv
 iduelle Fragen zum Thema zu stellen.\n\nStarke Knochen im Alter: Osteoporo
 se vorbeugen\n Vortragstermin: Donnerstag 18.06.2026\, 19.00 Uhr Klinken B
 öblingen Bunsenstraße 120\, 71032 Böblingen\nReferentin:\n 	Chefärztin
  Dr. Ilse Gehrke 	Zentrum für Akutgeriatrie/Neurogeriatrie & geriatrische
  Frührehabilitation\, Kliniken Sindelfingen \n Kontakt: Sekretariat Kran
 kenhausdirektion Klinikum Sindelfingen-Böblingen 07031 668-21032\nEs ist 
 keine Anmeldung erforderlich. 
X-ALT-DESC;FMTTYPE=text/html:<p>Im Rahmen der kostenfreien Vortragsreihe s
 tellen Chef- und Oberärzte aus unterschiedlichen Fachbereichen des Klinik
 ums Sindelfingen-Böblingen moderne Behandlungskonzepte<br /> vor. Die Med
 iziner präsentieren neue Erkenntnisse aus der Medizinforschung\, geben Hi
 ntergrundwissen zu Diagnostik und Therapie sowie wertvolle Tipps zur Vorbe
 ugung und Vorsorge. Im Anschluss an die einzelnen Vorträge besteht ausrei
 chend Möglichkeit\, individuelle Fragen zum Thema zu stellen.</p>\n\n<h4>
 <strong>Starke Knochen im Alter: Osteoporose vorbeugen</strong></h4>\n<p><
 br /> <strong>Vortragstermin:</strong><br /> Donnerstag 18.06.2026\, 19.00
  Uhr<br /> Klinken Böblingen<br /> Bunsenstraße 120\, 71032 Böblingen</
 p>\n<p><strong>Referentin:</strong></p>\n<ul> 	<li>Chefärztin Dr. Ilse Ge
 hrke<br /> 	Zentrum für Akutgeriatrie/Neurogeriatrie &amp\; geriatrische&
 nbsp\;Frührehabilitation\, Kliniken Sindelfingen</li> </ul>\n<p><br /> <s
 trong>Kontakt:</strong><br /> Sekretariat Krankenhausdirektion<br /> Klini
 kum Sindelfingen-Böblingen<br /> <a class="icon-tel" href="tel:0703166821
 032">07031 668-21032</a></p>\n<p><strong>Es ist keine Anmeldung erforderli
 ch.&nbsp\;</strong></p>
LOCATION:
END:VEVENT
END:VCALENDAR
