BEGIN:VCALENDAR
VERSION:2.0
PRODID:-//TYPO3/NONSGML Calendarize//EN
BEGIN:VEVENT
UID:calendarize-medizin-verstehen-der-einsatz-von-cannabis-in-der-schmerzt
 herapie-zwischen-mythos-und-realitaet-20251106
DTSTAMP:20260425T101926Z
DTSTART:20251106T170000Z
DTEND:20251105T230000Z
SUMMARY:Medizin verstehen: Künstliches Hüftgelenk - Moderne Möglichkeit
 en für mehr Lebensqualität
DESCRIPTION:Referent:\n 	Prof. Dr. Martin Handel 	Klinik für Orthopädie 
 und Unfallchirurgie \nDonnerstag\, 06.11.2025\, 18 Uhr\nVeranstaltungsort:
  Kliniken Calw\, Gemeinschaftsraum 4.OG\nKontakt:  Sekretariat Regionaldi
 rektion Frau Traude Gabel Tel.: 07051 14-43031 t.gabel@klinikverbund-suedw
 est.de
X-ALT-DESC;FMTTYPE=text/html:<p>Referent:</p>\n<ul> 	<li>Prof. Dr. Martin 
 Handel<br /> 	Klinik für Orthopädie und Unfallchirurgie</li> </ul>\n<p>D
 onnerstag\, 06.11.2025\, 18 Uhr</p>\n<p>Veranstaltungsort: Kliniken Calw\,
  Gemeinschaftsraum 4.OG</p>\n<p><strong>Kontakt:&nbsp\;</strong><br /> Sek
 retariat Regionaldirektion<br /> Frau Traude Gabel<br /> Tel.: 07051 14-43
 031<br /> <a href="mailto:t.gabel@klinikverbund-suedwest.de">t.gabel@klini
 kverbund-suedwest.de</a></p>
LOCATION:
END:VEVENT
END:VCALENDAR
