BEGIN:VCALENDAR
VERSION:2.0
PRODID:-//TYPO3/NONSGML Calendarize//EN
BEGIN:VEVENT
UID:calendarize-medizin-verstehen-inkontinenz
DTSTAMP:20260425T191150Z
DTSTART:20250701T160000Z
DTEND:20250630T220000Z
SUMMARY:Weltkontinenzwoche: Inkontinenz
DESCRIPTION:Im Rahmen der kostenfreien Vortragsreihe bieten Ihnen die Ärz
 te der Kliniken Calw die Möglichkeit\, sich umfassend über medizinische 
 Themen sowie neue Therapieverfahren und Vorsorgemöglichkeiten zu informie
 ren. Im Anschluss an jeden Vortrag haben Sie die Gelegenheit\, Fragen zum 
 Thema zu stellen.\nInkontinenzabend – im Rahmen der World Continence Wee
 k\nWenn der Verschluss langsam undicht wird – Strategien gegen die Harn
 inkontinenz Referentin: Chefärztin Dr. Ines Vogel\, Klinik für Frauenhe
 ilkunde und Geburtshilfe Krankenhaus Herrenberg\nKein Tabu mehr: Hilfe bei
  Organsenkung und Beckenbodenschwäche. Inkontinenz ist kein Schicksal Ref
 erent: Chefarzt Prof. Dr. Daniel Kauff\, Klinik für Allgemein-\, Viszeral
 - und Gefäßchirurgie mit Unfallchirurgie\, zertifiziertes Kontinenz- und
  Beckenbodenzentrum Calw-Nagold  Vortragstermin: Dienstag 01.07.2025\, 18.
 00 Uhr Klinken Calw Eduard-Conz-Str. 6\, 75365 Calw\n\nKontakt: Traude Gab
 el Sekretariat Krankenhausdirektion Kliniken Calw 07051 14-43031 t.gabel@k
 linikverbund-suedwest.de\nEs ist keine Anmeldung erforderlich. 
X-ALT-DESC;FMTTYPE=text/html:<p>Im Rahmen der kostenfreien Vortragsreihe b
 ieten Ihnen die Ärzte der Kliniken Calw die Möglichkeit\, sich umfassend
  über medizinische Themen sowie neue Therapieverfahren und Vorsorgemögli
 chkeiten zu informieren. Im Anschluss an jeden Vortrag haben Sie die Geleg
 enheit\, Fragen zum Thema zu stellen.</p>\n<p><strong>Inkontinenzabend –
  im Rahmen der World Continence Week</strong></p>\n<p><strong>Wenn der Ver
 schluss langsam undicht wird –&nbsp\;Strategien gegen die Harninkontinen
 z</strong><br /> Referentin: Chefärztin&nbsp\;Dr. Ines Vogel\, Klinik fü
 r Frauenheilkunde und Geburtshilfe<br /> Krankenhaus Herrenberg</p>\n<p><s
 trong>Kein Tabu mehr: Hilfe bei Organsenkung und Beckenbodenschwäche. Ink
 ontinenz ist kein Schicksal</strong><br /> Referent: Chefarzt Prof. Dr. Da
 niel Kauff\, Klinik für Allgemein-\, Viszeral- und Gefäßchirurgie mit U
 nfallchirurgie\,<br /> zertifiziertes Kontinenz- und Beckenbodenzentrum Ca
 lw-Nagold<br /> <br /> <strong>Vortragstermin:</strong><br /> Dienstag 01.
 07.2025\, 18.00 Uhr<br /> Klinken Calw<br /> Eduard-Conz-Str. 6\, 75365 Ca
 lw</p>\n\n<p><strong>Kontakt:</strong><br /> Traude Gabel<br /> Sekretaria
 t Krankenhausdirektion<br /> Kliniken Calw<br /> <a class="icon-tel" href=
 "tel:070511443031">07051 14-43031</a><br /> <a class="icon-mail" href="mai
 lto:t.gabel@klinikverbund-suedwest.de">t.gabel@klinikverbund-suedwest.de</
 a></p>\n<p><strong>Es ist keine Anmeldung erforderlich.&nbsp\;</strong></p
 >
LOCATION:
END:VEVENT
END:VCALENDAR
