BEGIN:VCALENDAR
VERSION:2.0
PRODID:-//TYPO3/NONSGML Calendarize//EN
BEGIN:VEVENT
UID:calendarize-medizin-vor-ort-altersmedizin
DTSTAMP:20260425T191025Z
DTSTART:20250723T170000Z
DTEND:20250722T220000Z
SUMMARY:Medizin vor Ort: Altersmedizin – Demenz\, Delir und Depression
DESCRIPTION:Unterstützt von den umliegenden Städten und Gemeinden bietet
  das Krankenhaus Leonberg im Rahmen einer kostenfreien Vortragsreihe allen
  Interessierten die Möglichkeit\, sich umfassend über medizinische Theme
 n zu informieren. An spannenden Vortragsabenden erläutern unsere Ärzte w
 ichtige Gesundheitsthemen\, neue Therapieverfahren und Vorsorgemöglichkei
 ten. Im Anschluss haben Sie jeweils die Gelegenheit\, Fragen zu stellen.\n
 \nAltersmedizin – Demenz\, Delir und Depression\n Vortragstermin: Mittwo
 ch 23.07.2025\, 19.00 Uhr Krankenhaus Leonberg Rutesheimer Str. 50\, 71229
  Leonberg\nReferent:\n 	Dr. Navid Sheikholeslami 	Sektionsleiter in der Kl
 inik für Innere Medizin - Schwerpunkt Geriatrie \n Kontakt: Frau Sandra J
 oel Sekretariat Krankenhausdirektion 07152 202-64001 s.joel@klinikverbund-
 suedwest.de \nEs ist keine Anmeldung erforderlich. 
X-ALT-DESC;FMTTYPE=text/html:<p>Unterstützt von den umliegenden Städten 
 und Gemeinden bietet das Krankenhaus Leonberg im Rahmen einer kostenfreien
  Vortragsreihe allen Interessierten die Möglichkeit\, sich umfassend übe
 r medizinische Themen zu informieren. An spannenden Vortragsabenden erläu
 tern unsere Ärzte wichtige Gesundheitsthemen\, neue Therapieverfahren und
  Vorsorgemöglichkeiten. Im Anschluss haben Sie jeweils die Gelegenheit\, 
 Fragen zu stellen.</p>\n\n<h4><strong>Altersmedizin – Demenz\, Delir und
  Depression</strong></h4>\n<p><br /> <strong>Vortragstermin:</strong><br /
 > Mittwoch 23.07.2025\, 19.00 Uhr<br /> Krankenhaus Leonberg<br /> Ruteshe
 imer Str. 50\, 71229 Leonberg</p>\n<p><strong>Referent:</strong></p>\n<ul>
  	<li>Dr. Navid Sheikholeslami<br /> 	Sektionsleiter in der Klinik für In
 nere Medizin - Schwerpunkt Geriatrie</li> </ul>\n<p><br /> <strong>Kontakt
 :</strong><br /> Frau Sandra Joel<br /> Sekretariat Krankenhausdirektion<b
 r /> <a class="icon-tel" href="tel:0715220264001">07152 202-64001</a><br /
 > <a class="icon-mail" href="mailto:s.joel@klinikverbund-suedwest.de">s.jo
 el@klinikverbund-suedwest.de </a></p>\n<p><strong>Es ist keine Anmeldung e
 rforderlich.&nbsp\;</strong></p>
LOCATION:
END:VEVENT
END:VCALENDAR
