BEGIN:VCALENDAR
VERSION:2.0
PRODID:-//TYPO3/NONSGML Calendarize//EN
BEGIN:VEVENT
UID:calendarize-medizin-vor-ort-das-kreuz-mit-dem-kreuz
DTSTAMP:20260425T034238Z
DTSTART:20260513T170000Z
DTEND:20260512T220000Z
SUMMARY:Medizin vor Ort: Das Kreuz mit dem Kreuz
DESCRIPTION:Unterstützt von den umliegenden Städten und Gemeinden bietet
  das Krankenhaus Leonberg im Rahmen einer kostenfreien Vortragsreihe allen
  Interessierten die Möglichkeit\, sich umfassend über medizinische Theme
 n zu informieren. An spannenden Vortragsabenden erläutern unsere Ärzte w
 ichtige Gesundheitsthemen\, neue Therapieverfahren und Vorsorgemöglichkei
 ten. Im Anschluss haben Sie jeweils die Gelegenheit\, Fragen zu stellen.\n
 \nDas Kreuz mit dem Kreuz\n Vortragstermin: Mittwoch 13.05.2026\, 19.00 Uh
 r Weissach\, Bachstraße 35 / Sängerheim\nReferent:\n 	Oberarzt Dr. Pasca
 l Militzer 	Neurochirurgie\, Klinik für Unfallchirurgie und Orthopädie \
 n Kontakt: Frau Sandra Joel Sekretariat Krankenhausdirektion 07152 202-640
 01 s.joel@klinikverbund-suedwest.de \nEs ist keine Anmeldung erforderlich.
    
X-ALT-DESC;FMTTYPE=text/html:<p>Unterstützt von den umliegenden Städten 
 und Gemeinden bietet das Krankenhaus Leonberg im Rahmen einer kostenfreien
  Vortragsreihe allen Interessierten die Möglichkeit\, sich umfassend übe
 r medizinische Themen zu informieren. An spannenden Vortragsabenden erläu
 tern unsere Ärzte wichtige Gesundheitsthemen\, neue Therapieverfahren und
  Vorsorgemöglichkeiten. Im Anschluss haben Sie jeweils die Gelegenheit\, 
 Fragen zu stellen.</p>\n\n<h4><strong>Das Kreuz mit dem Kreuz</strong></h4
 >\n<p><br /> <strong>Vortragstermin:</strong><br /> Mittwoch 13.05.2026\, 
 19.00 Uhr<br /> Weissach\, Bachstraße 35 / Sängerheim</p>\n<p><strong>Re
 ferent:</strong></p>\n<ul> 	<li>Oberarzt Dr. Pascal Militzer<br /> 	Neuroc
 hirurgie\, Klinik für Unfallchirurgie und Orthopädie</li> </ul>\n<p><br 
 /> <strong>Kontakt:</strong><br /> Frau Sandra Joel<br /> Sekretariat Kran
 kenhausdirektion<br /> <a class="icon-tel" href="tel:0715220264001">07152 
 202-64001</a><br /> <a class="icon-mail" href="mailto:s.joel@klinikverbund
 -suedwest.de">s.joel@klinikverbund-suedwest.de </a></p>\n<p><strong>Es ist
  keine Anmeldung erforderlich.&nbsp\;</strong><br /> &nbsp\;</p>
LOCATION:Weissach
END:VEVENT
END:VCALENDAR
