BEGIN:VCALENDAR
VERSION:2.0
PRODID:-//TYPO3/NONSGML Calendarize//EN
BEGIN:VEVENT
UID:calendarize-medizin-vor-ort-geriatrie-medizin-fuers-alter-wie-altersme
 dizin-die-lebensqualitaet-erhaelt
DTSTAMP:20260425T111247Z
DTSTART:20261119T180000Z
DTEND:20261118T230000Z
SUMMARY:Medizin vor Ort: Geriatrie – Medizin fürs Alter. Wie Altersmedi
 zin die Lebensqualität erhält
DESCRIPTION:Unterstützt von den umliegenden Städten und Gemeinden bietet
  das Krankenhaus Leonberg im Rahmen einer kostenfreien Vortragsreihe allen
  Interessierten die Möglichkeit\, sich umfassend über medizinische Theme
 n zu informieren. An spannenden Vortragsabenden erläutern unsere Ärzte w
 ichtige Gesundheitsthemen\, neue Therapieverfahren und Vorsorgemöglichkei
 ten. Im Anschluss haben Sie jeweils die Gelegenheit\, Fragen zu stellen.\n
 \nGeriatrie – Medizin fürs Alter Wie Altersmedizin die Lebensqualität 
 erhält\n Vortragstermin: Donnerstag 19.11.2026\, 19.00 Uhr Renningen / Bü
 rgerhaus Jahnstraße 20\nReferent:\n 	Geschf. Chefarzt Dr. Mimoun Azizi 	Z
 entrum für Akutgeriatrie / Neurogeriatrie \n Kontakt: Frau Sandra Joel Se
 kretariat Krankenhausdirektion 07152 202-64001 s.joel@klinikverbund-suedwe
 st.de \nEs ist keine Anmeldung erforderlich.   
X-ALT-DESC;FMTTYPE=text/html:<p>Unterstützt von den umliegenden Städten 
 und Gemeinden bietet das Krankenhaus Leonberg im Rahmen einer kostenfreien
  Vortragsreihe allen Interessierten die Möglichkeit\, sich umfassend übe
 r medizinische Themen zu informieren. An spannenden Vortragsabenden erläu
 tern unsere Ärzte wichtige Gesundheitsthemen\, neue Therapieverfahren und
  Vorsorgemöglichkeiten. Im Anschluss haben Sie jeweils die Gelegenheit\, 
 Fragen zu stellen.</p>\n\n<h4><strong>Geriatrie – Medizin fürs Alter<br
  /> Wie Altersmedizin die Lebensqualität erhält</strong></h4>\n<p><br />
  <strong>Vortragstermin:</strong><br /> Donnerstag 19.11.2026\, 19.00 Uhr<
 br /> Renningen / Bürgerhaus<br /> Jahnstraße 20</p>\n<p><strong>Referen
 t:</strong></p>\n<ul> 	<li>Geschf. Chefarzt Dr. Mimoun Azizi<br /> 	Zentru
 m für Akutgeriatrie / Neurogeriatrie</li> </ul>\n<p><br /> <strong>Kontak
 t:</strong><br /> Frau Sandra Joel<br /> Sekretariat Krankenhausdirektion<
 br /> <a class="icon-tel" href="tel:0715220264001">07152 202-64001</a><br 
 /> <a class="icon-mail" href="mailto:s.joel@klinikverbund-suedwest.de">s.j
 oel@klinikverbund-suedwest.de </a></p>\n<p><strong>Es ist keine Anmeldung 
 erforderlich.&nbsp\;</strong><br /> &nbsp\;</p>
LOCATION:Renningen 
END:VEVENT
END:VCALENDAR
