BEGIN:VCALENDAR
VERSION:2.0
PRODID:-//TYPO3/NONSGML Calendarize//EN
BEGIN:VEVENT
UID:calendarize-medizin-vor-ort-inkontinenz-1
DTSTAMP:20260425T205134Z
DTSTART:20250623T170000Z
DTEND:20250622T220000Z
SUMMARY:Weltkontinenzwoche: Inkontinenz
DESCRIPTION:Unterstützt von den umliegenden Städten und Gemeinden bietet
  das Krankenhaus Leonberg im Rahmen einer kostenfreien Vortragsreihe allen
  Interessierten die Möglichkeit\, sich umfassend über medizinische Theme
 n zu informieren. An spannenden Vortragsabenden erläutern unsere Ärzte w
 ichtige Gesundheitsthemen\, neue Therapieverfahren und Vorsorgemöglichkei
 ten. Im Anschluss haben Sie jeweils die Gelegenheit\, Fragen zu stellen.\n
 Inkontinenzabend – im Rahmen der World Continence Week Harn- und Stuhlin
 kontinenz\nTherapiemöglichkeiten bei überaktiver Harnblase und Gebärmut
 tersenkung  Referent:  Chefarzt Dr. Arkadiusz Praski\, Klinik für Frauenh
 eilkunde und Geburtshilfe\, Krankenhaus Leonberg\nDie Neurogene Blasenstö
 rung (neurodegenerativ) im Alter Referent: Chefarzt Dr. Mimoun Azizi\, Zen
 trum für Geriatrie/Altersmedizin\nOperative Kontinenztherapie – was ste
 ckt dahinter? Referent: Oberarzt Johannes Dlugosch\, Urologische Klinik Si
 ndelfingen (UKS)\n Vortragstermin: Montag 23.06.2025\, 19.00 Uhr Krankenha
 us Leonberg Rutesheimer Straße 50\, 71229 Leonberg\n Kontakt: Frau Sandra
  Joel Sekretariat Krankenhausdirektion 07152 202-64001 s.joel@klinikverbun
 d-suedwest.de \nEs ist keine Anmeldung erforderlich. 
X-ALT-DESC;FMTTYPE=text/html:<p>Unterstützt von den umliegenden Städten 
 und Gemeinden bietet das Krankenhaus Leonberg im Rahmen einer kostenfreien
  Vortragsreihe allen Interessierten die Möglichkeit\, sich umfassend übe
 r medizinische Themen zu informieren. An spannenden Vortragsabenden erläu
 tern unsere Ärzte wichtige Gesundheitsthemen\, neue Therapieverfahren und
  Vorsorgemöglichkeiten. Im Anschluss haben Sie jeweils die Gelegenheit\, 
 Fragen zu stellen.</p>\n<p><strong>Inkontinenzabend – im Rahmen der Worl
 d Continence Week<br /> Harn- und Stuhlinkontinenz</strong></p>\n<p><stron
 g>Therapiemöglichkeiten bei überaktiver Harnblase und Gebärmuttersenkun
 g </strong><br /> <strong>Referent: </strong><br /> Chefarzt Dr. Arkadiusz
  Praski\, Klinik für Frauenheilkunde und Geburtshilfe\, Krankenhaus Leonb
 erg</p>\n<p><strong>Die Neurogene Blasenstörung (neurodegenerativ) im Alt
 er</strong><br /> <strong>Referent:</strong><br /> Chefarzt Dr. Mimoun Azi
 zi\, Zentrum für Geriatrie/Altersmedizin</p>\n<p><strong>Operative Kontin
 enztherapie – was steckt dahinter?<br /> Referent:</strong><br /> Oberar
 zt Johannes Dlugosch\, Urologische Klinik Sindelfingen (UKS)</p>\n<p><br /
 > <strong>Vortragstermin:</strong><br /> Montag 23.06.2025\, 19.00 Uhr<br 
 /> Krankenhaus Leonberg<br /> Rutesheimer Straße 50\, 71229 Leonberg</p>\
 n<p><br /> <strong>Kontakt:</strong><br /> Frau Sandra Joel<br /> Sekretar
 iat Krankenhausdirektion<br /> <a class="icon-tel" href="tel:0715220264001
 ">07152 202-64001</a><br /> <a class="icon-mail" href="mailto:s.joel@klini
 kverbund-suedwest.de">s.joel@klinikverbund-suedwest.de </a></p>\n<p><stron
 g>Es ist keine Anmeldung erforderlich.&nbsp\;</strong></p>
LOCATION:Leonberg
END:VEVENT
END:VCALENDAR
