BEGIN:VCALENDAR
VERSION:2.0
PRODID:-//TYPO3/NONSGML Calendarize//EN
BEGIN:VEVENT
UID:calendarize-medizin-vor-ort-urlaub-und-der-darm-steigt-aus
DTSTAMP:20260425T034316Z
DTSTART:20260624T170000Z
DTEND:20260623T220000Z
SUMMARY:Medizin vor Ort: Urlaub – und der Darm steigt aus
DESCRIPTION:Unterstützt von den umliegenden Städten und Gemeinden bietet
  das Krankenhaus Leonberg im Rahmen einer kostenfreien Vortragsreihe allen
  Interessierten die Möglichkeit\, sich umfassend über medizinische Theme
 n zu informieren. An spannenden Vortragsabenden erläutern unsere Ärzte w
 ichtige Gesundheitsthemen\, neue Therapieverfahren und Vorsorgemöglichkei
 ten. Im Anschluss haben Sie jeweils die Gelegenheit\, Fragen zu stellen.\n
 \nUrlaub – und der Darm steigt aus Durchfall und andere Unannehmlichkeit
 en\n Vortragstermin: Mittwoch 24.06.2026\, 19.00 Uhr Krankenhaus Leonberg 
 Rutesheimer Str. 50\, 71229 Leonberg\nReferent:\n 	Chefarzt Dr. Wolfgang H
 einz 	Medizinische Klinik II - Gastroenterologie\, Onkologie\, Palliativme
 dizin \n Kontakt: Frau Sandra Joel Sekretariat Krankenhausdirektion 07152 
 202-64001 s.joel@klinikverbund-suedwest.de \nEs ist keine Anmeldung erford
 erlich.  Am Krankenhaus Leonberg ist das Parken während der Veranstaltun
 gen kostenlos.
X-ALT-DESC;FMTTYPE=text/html:<p>Unterstützt von den umliegenden Städten 
 und Gemeinden bietet das Krankenhaus Leonberg im Rahmen einer kostenfreien
  Vortragsreihe allen Interessierten die Möglichkeit\, sich umfassend übe
 r medizinische Themen zu informieren. An spannenden Vortragsabenden erläu
 tern unsere Ärzte wichtige Gesundheitsthemen\, neue Therapieverfahren und
  Vorsorgemöglichkeiten. Im Anschluss haben Sie jeweils die Gelegenheit\, 
 Fragen zu stellen.</p>\n\n<h4><strong>Urlaub – und der Darm steigt aus<b
 r /> Durchfall und andere Unannehmlichkeiten</strong></h4>\n<p><br /> <str
 ong>Vortragstermin:</strong><br /> Mittwoch 24.06.2026\, 19.00 Uhr<br /> K
 rankenhaus Leonberg<br /> Rutesheimer Str. 50\, 71229 Leonberg</p>\n<p><st
 rong>Referent:</strong></p>\n<ul> 	<li>Chefarzt Dr. Wolfgang Heinz<br /> 	
 Medizinische Klinik II - Gastroenterologie\, Onkologie\, Palliativmedizin<
 /li> </ul>\n<p><br /> <strong>Kontakt:</strong><br /> Frau Sandra Joel<br 
 /> Sekretariat Krankenhausdirektion<br /> <a class="icon-tel" href="tel:07
 15220264001">07152 202-64001</a><br /> <a class="icon-mail" href="mailto:s
 .joel@klinikverbund-suedwest.de">s.joel@klinikverbund-suedwest.de </a></p>
 \n<p><strong>Es ist keine Anmeldung erforderlich.&nbsp\;</strong><br /> Am
  Krankenhaus Leonberg ist das Parken während der Veranstaltungen kostenlo
 s.</p>
LOCATION:
END:VEVENT
END:VCALENDAR
