BEGIN:VCALENDAR
VERSION:2.0
PRODID:-//TYPO3/NONSGML Calendarize//EN
BEGIN:VEVENT
UID:calendarize-medizin-vor-ort-was-macht-der-anaesthesist-waehrend-ich-be
 i-der-op-schlafe
DTSTAMP:20260425T034445Z
DTSTART:20260520T170000Z
DTEND:20260519T220000Z
SUMMARY:Medizin vor Ort: Was macht der Anästhesist\, während ich bei der
  OP schlafe?
DESCRIPTION:Unterstützt von den umliegenden Städten und Gemeinden bietet
  das Krankenhaus Leonberg im Rahmen einer kostenfreien Vortragsreihe allen
  Interessierten die Möglichkeit\, sich umfassend über medizinische Theme
 n zu informieren. An spannenden Vortragsabenden erläutern unsere Ärzte w
 ichtige Gesundheitsthemen\, neue Therapieverfahren und Vorsorgemöglichkei
 ten. Im Anschluss haben Sie jeweils die Gelegenheit\, Fragen zu stellen.\n
 \nWas macht der Anästhesist\, während ich bei der OP schlafe?\n Vortrags
 termin: Mittwoch 20.05.2026\, 19.00 Uhr Krankenhaus Leonberg Rutesheimer S
 tr. 50\, 71229 Leonberg\nReferent:\n 	Ltd. Oberarzt Dr. Thomas Klein 	Klin
 ik für Anästhesie und Intensivmedizin \n Kontakt: Frau Sandra Joel Sekre
 tariat Krankenhausdirektion 07152 202-64001 s.joel@klinikverbund-suedwest.
 de \nEs ist keine Anmeldung erforderlich.  Am Krankenhaus Leonberg ist da
 s Parken während der Veranstaltungen kostenlos.
X-ALT-DESC;FMTTYPE=text/html:<p>Unterstützt von den umliegenden Städten 
 und Gemeinden bietet das Krankenhaus Leonberg im Rahmen einer kostenfreien
  Vortragsreihe allen Interessierten die Möglichkeit\, sich umfassend übe
 r medizinische Themen zu informieren. An spannenden Vortragsabenden erläu
 tern unsere Ärzte wichtige Gesundheitsthemen\, neue Therapieverfahren und
  Vorsorgemöglichkeiten. Im Anschluss haben Sie jeweils die Gelegenheit\, 
 Fragen zu stellen.</p>\n\n<h4><strong>Was macht der Anästhesist\, währen
 d ich bei der OP schlafe?</strong></h4>\n<p><br /> <strong>Vortragstermin:
 </strong><br /> Mittwoch 20.05.2026\, 19.00 Uhr<br /> Krankenhaus Leonberg
 <br /> Rutesheimer Str. 50\, 71229 Leonberg</p>\n<p><strong>Referent:</str
 ong></p>\n<ul> 	<li>Ltd. Oberarzt Dr. Thomas Klein<br /> 	Klinik für Anä
 sthesie und Intensivmedizin</li> </ul>\n<p><br /> <strong>Kontakt:</strong
 ><br /> Frau Sandra Joel<br /> Sekretariat Krankenhausdirektion<br /> <a c
 lass="icon-tel" href="tel:0715220264001">07152 202-64001</a><br /> <a clas
 s="icon-mail" href="mailto:s.joel@klinikverbund-suedwest.de">s.joel@klinik
 verbund-suedwest.de </a></p>\n<p><strong>Es ist keine Anmeldung erforderli
 ch.&nbsp\;</strong><br /> Am Krankenhaus Leonberg ist das Parken während 
 der Veranstaltungen kostenlos.</p>
LOCATION:
END:VEVENT
END:VCALENDAR
