BEGIN:VCALENDAR
VERSION:2.0
PRODID:-//TYPO3/NONSGML Calendarize//EN
BEGIN:VEVENT
UID:calendarize-neonatologie-pflegesymposium-2025
DTSTAMP:20260419T213354Z
DTSTART:20250211T153000Z
DTEND:20250211T181500Z
SUMMARY:1. Neonatologie-Pflegesymposium
DESCRIPTION:Wir laden Sie herzlich ein\, sich über die neusten Themen des
  Fachbereichs Neonatologie auszutauschen\, Kontakte zu knüpfen und Wissen
  zu teilen. Unser 1. Neonatologisches Pflegesymposium findet am 11.02.2025
  in der Klinik für Kinder- und Jugendmedizin Böblingen statt.\nDie Veran
 staltung richtet sich an medizinisch-pflegerisches Personal\, Auszubildend
 e und Therapeuten aus den Bereichen der Neonatologie\, Pädiatrie oder der
  Wochenstation. In unseren Vorträgen diskutieren wir neue wissenschaftlic
 he Erkenntnisse\, innovative Therapieansätze und stellen praxisnahe Fallb
 eispiele in den Fokus. Die Teilnahme ist kostenlos. Bei Bedarf erhalten Si
 e eine Teilnahmebescheinigung mit RBP-Punkten.\nBitte melden Sie sich zur 
 Veranstaltung über das KVSW Bildungszentrum an. Wir freuen uns auf Ihr Ko
 mmen!\n\nAnmeldung \nFrau Christina Baust KVSW Bildungszentrum C.Baust@kl
 inikverbund-suedwest.de Anmeldeschluss 07.02.2025
X-ALT-DESC;FMTTYPE=text/html:<p>Wir laden Sie herzlich ein\, sich über di
 e neusten Themen des Fachbereichs Neonatologie auszutauschen\, Kontakte zu
  knüpfen und Wissen zu teilen. Unser 1. Neonatologisches Pflegesymposium 
 findet am 11.02.2025 in der Klinik für Kinder- und Jugendmedizin Böbling
 en statt.</p>\n<p>Die Veranstaltung richtet sich an medizinisch-pflegerisc
 hes Personal\, Auszubildende und Therapeuten aus den Bereichen der Neonato
 logie\, Pädiatrie oder der Wochenstation. In unseren Vorträgen diskutier
 en wir neue wissenschaftliche Erkenntnisse\, innovative Therapieansätze u
 nd stellen praxisnahe Fallbeispiele in den Fokus. Die Teilnahme ist kosten
 los. Bei Bedarf erhalten Sie eine Teilnahmebescheinigung mit RBP-Punkten.<
 /p>\n<p>Bitte melden Sie sich zur Veranstaltung über das KVSW Bildungszen
 trum an.<br /> Wir freuen uns auf Ihr Kommen!</p>\n\n<p><strong>Anmeldung&
 nbsp\;</strong></p>\n<p>Frau Christina Baust<br /> KVSW Bildungszentrum<br
  /> <a class="icon-mail" href="mailto:c.baust@klinikverbund-suedwest.de">C
 .Baust@klinikverbund-suedwest.de</a><br /> <em>Anmeldeschluss 07.02.2025</
 em></p>
LOCATION:Kliniken Böblingen
END:VEVENT
END:VCALENDAR
