BEGIN:VCALENDAR
VERSION:2.0
PRODID:-//TYPO3/NONSGML Calendarize//EN
BEGIN:VEVENT
UID:calendarize-qualitaetszirkel-workshop-lymphnetzwerk
DTSTAMP:20260425T121215Z
DTSTART:20251004T073000Z
DTEND:20251004T130000Z
SUMMARY:Qualitätszirkel & Workshop - Lymphnetzwerk 
DESCRIPTION:Qualitätszirkel des Brustkrebs- / Gyn-Krebs- und Endometriose
 zentrums sowie des ASV an der Frauenklinik Böblingen unter dem Motto:\n"T
 herapie optimieren\, Lebensqualität verbessern"  \nDer Qualitätszirkel 
 sowie der Workshop finden in den Konferenzräumen und im Casino der Klinik
 en Böblingen statt:\nKliniken Böblingen Bunsenstrasse 120 71032 Böbling
 en  \nProgramm:  \n 	 		 			9.30 Uhr         			Begrüßung 			  	
 	 		 			9.40 Uhr  			Digitale Unterstützung in der Onkologie und Endomet
 riosetherapie 			Gesundheits-Apps und Digitale Gesundheitsanwendungen 			 
  		 		 			10.30 Uhr 			Kaffeepause und Besuch der Informationsstände 			 
  		 		 			11.00 Uhr 			Das thorakale Operkulum 			Ein Weg zu besser Sogwir
 kung und Effektivität der Lymphtherapie 			  		 		 			11.30 Uhr 			Lymph
 ozelen als postoperative Komplikationen 			2 Fallvorstellungen 			  		 		
  			11.50 Uhr 			Fragen / Fazit 			  		 		 			12.00 Uhr 			Mittagspause 	
 		„meet the experts“ und Besuch der Infostände 			  		 		 			13.00 U
 hr 			Lymphozelen als Herausforderung in der Lymphtherapie  			Strategiee
 ntwicklung und praktische Übungen 			(Workshop nur für Behandelnde und m
 edizinisches Fachpersonal) 			  		 		 			15.00 Uhr 			Ende 			  		 	 \nW
 eitere Informationen zur Anmeldung finden Sie in der Einladung anbei.\n\n
X-ALT-DESC;FMTTYPE=text/html:<p>Qualitätszirkel des Brustkrebs- / Gyn-Kre
 bs- und Endometriosezentrums sowie des ASV an der Frauenklinik Böblingen 
 unter dem Motto:</p>\n<h5><strong>"Therapie optimieren\, Lebensqualität v
 erbessern"</strong><br /> &nbsp\;</h5>\n<p>Der Qualitätszirkel sowie der 
 Workshop finden in den Konferenzräumen und im Casino der Kliniken Böblin
 gen statt:</p>\n<p>Kliniken Böblingen<br /> Bunsenstrasse 120<br /> 71032
  Böblingen<br /> &nbsp\;</p>\n<h4><strong>Programm:</strong><br /> &nbsp\
 ;</h4>\n<table> 	<tbody> 		<tr> 			<td style="vertical-align:top">9.30 Uhr
 &nbsp\; &nbsp\; &nbsp\; &nbsp\;&nbsp\;</td> 			<td style="vertical-align:t
 op">Begrüßung<br /> 			&nbsp\;</td> 		</tr> 		<tr> 			<td style="vertica
 l-align:top">9.40 Uhr&nbsp\;</td> 			<td style="vertical-align:top"><stron
 g>Digitale Unterstützung in der Onkologie und Endometriosetherapie</stron
 g><br /> 			<em>Gesundheits-Apps und Digitale Gesundheitsanwendungen</em><
 br /> 			&nbsp\;</td> 		</tr> 		<tr> 			<td style="vertical-align:top">10.
 30 Uhr</td> 			<td style="vertical-align:top"><strong>Kaffeepause und Besu
 ch der Informationsstände</strong><br /> 			&nbsp\;</td> 		</tr> 		<tr> 	
 		<td style="vertical-align:top">11.00 Uhr</td> 			<td style="vertical-ali
 gn:top"><strong>Das thorakale Operkulum</strong><br /> 			<em>Ein Weg zu b
 esser Sogwirkung und Effektivität der Lymphtherapie</em><br /> 			&nbsp\;
 </td> 		</tr> 		<tr> 			<td style="vertical-align:top">11.30 Uhr</td> 			<
 td style="vertical-align:top"><strong>Lymphozelen als postoperative Kompli
 kationen</strong><br /> 			<em>2 Fallvorstellungen</em><br /> 			&nbsp\;</
 td> 		</tr> 		<tr> 			<td style="vertical-align:top">11.50 Uhr</td> 			<td
  style="vertical-align:top">Fragen / Fazit<br /> 			&nbsp\;</td> 		</tr> 	
 	<tr> 			<td style="vertical-align:top">12.00 Uhr</td> 			<td style="verti
 cal-align:top">Mittagspause<br /> 			<em>„meet the experts“ und Besuch
  der Infostände</em><br /> 			&nbsp\;</td> 		</tr> 		<tr> 			<td style="v
 ertical-align:top">13.00 Uhr</td> 			<td style="vertical-align:top"><stron
 g>Lymphozelen als Herausforderung in der Lymphtherapie&nbsp\;</strong><br 
 /> 			<em>Strategieentwicklung und praktische Übungen<br /> 			(Workshop 
 nur für Behandelnde und medizinisches Fachpersonal)</em><br /> 			&nbsp\;
 </td> 		</tr> 		<tr> 			<td style="vertical-align:top">15.00 Uhr</td> 			<
 td style="vertical-align:top">Ende<br /> 			&nbsp\;</td> 		</tr> 	</tbody>
  </table>\n<p>Weitere Informationen zur Anmeldung finden Sie in der Einlad
 ung anbei.</p>\n\n
LOCATION:
END:VEVENT
END:VCALENDAR
