BEGIN:VCALENDAR
VERSION:2.0
PRODID:-//TYPO3/NONSGML Calendarize//EN
BEGIN:VEVENT
UID:calendarize-urologische-herbst-akademie-2025
DTSTAMP:20260425T101819Z
DTSTART;VALUE=DATE:20251106
DTEND;VALUE=DATE:20251109
SUMMARY:Urologische Herbst-Akademie 2025
DESCRIPTION: 	Die Teilnehmerzahl ist auf 40 Ärzte begrenzt. 	Es gibt zwei
  Möglichkeiten zur Teilnahme: 	A: Sie nehmen nur am wissenschaftlichen Pr
 ogramm teil. 	B: Sie nehmen am wissenschaftlichen Programm und den Hospita
 tionen teil. 	Andere Auswahlmöglichkeiten stehen nicht zur Verfügung. 	D
 ie Plätze für die Hospitationen können im Rahmen der Registrierung und 
 nach Verfügbarkeit von jedem Teilnehmer selbst gewählt werden. 	Teilnehm
 ermanagement: Proske GmbH | Ellmaierstr. 40 | 83022 Rosenheim 	Die Inhalte
  dieser Veranstaltung werden produktneutral gestaltet. Die wissenschaftlic
 he Leitung und die Referenten werden potenzielle Interessenkonflikte gegen
 über den Teilnehmern offenlegen. 	Die Teilnehmer erhalten nach erfolgreic
 her Registrierung die entsprechenden Einladungsunterlagen mit der Bitte um
  Rücksendung eines vollständig unterzeichneten Exemplars. Im Anschluss d
 aran werden Sie zur Organisation der An- und Abreise von unserem Partner-R
 eisebüro kontaktiert. 	Die Gesamtaufwendungen der Veranstaltung (Kosten f
 ür die Ausrichtung der Veranstaltung inkl. Referentenhonorare\, Hotel- un
 d Agenturkosten\, Technik etc.) betragen pro Teilnehmer rund 1.010 EUR. \n
 Veranstalter: Astellas Pharma GmbH Anmeldung: fortbildung.astellas-med.de
 \nWeitere Informationen\, Veranstaltungsorte sowie das Programm entnehmen 
 Sie bitte dem angehängten Flyer.
X-ALT-DESC;FMTTYPE=text/html:<ul> 	<li>Die Teilnehmerzahl ist auf 40 Ärzt
 e begrenzt.</li> 	<li>Es gibt zwei Möglichkeiten zur Teilnahme:<br /> 	A:
  Sie nehmen nur am wissenschaftlichen Programm teil.<br /> 	B: Sie nehmen 
 am wissenschaftlichen Programm und den Hospitationen teil.<br /> 	Andere A
 uswahlmöglichkeiten stehen nicht zur Verfügung.</li> 	<li>Die Plätze fü
 r die Hospitationen können im Rahmen der Registrierung und nach Verfügba
 rkeit von jedem Teilnehmer selbst gewählt werden.</li> 	<li>Teilnehmerman
 agement: Proske GmbH | Ellmaierstr. 40 | 83022 Rosenheim</li> 	<li>Die Inh
 alte dieser Veranstaltung werden produktneutral gestaltet. Die wissenschaf
 tliche Leitung und die Referenten werden potenzielle Interessenkonflikte g
 egenüber den Teilnehmern offenlegen.</li> 	<li>Die Teilnehmer erhalten na
 ch erfolgreicher Registrierung die entsprechenden Einladungsunterlagen mit
  der Bitte um Rücksendung eines vollständig unterzeichneten Exemplars. I
 m Anschluss daran werden Sie zur Organisation der An- und Abreise von unse
 rem Partner-Reisebüro kontaktiert.</li> 	<li>Die Gesamtaufwendungen der V
 eranstaltung (Kosten für die Ausrichtung der Veranstaltung inkl. Referent
 enhonorare\, Hotel- und Agenturkosten\, Technik etc.) betragen pro Teilneh
 mer rund 1.010 EUR.</li> </ul>\n<p>Veranstalter: Astellas Pharma GmbH<br /
 > Anmeldung:&nbsp\;<a href="http://fortbildung.astellas-med.de">fortbildun
 g.astellas-med.de</a></p>\n<p><strong>Weitere Informationen\, Veranstaltun
 gsorte sowie das Programm entnehmen Sie bitte dem angehängten Flyer.</str
 ong></p>
LOCATION:
END:VEVENT
END:VCALENDAR
