BEGIN:VCALENDAR
VERSION:2.0
PRODID:-//TYPO3/NONSGML Calendarize//EN
BEGIN:VEVENT
UID:calendarize-weltstillwoche-hb-2025
DTSTAMP:20260425T121318Z
DTSTART:20251001T073000Z
DTEND:20251001T093000Z
SUMMARY:Weltstillwoche: Beratung zur Ernährung im ersten Lebenjahr
DESCRIPTION:Bei dieser Gelegenheit können sich am 01. Oktober von 9.30 bi
 s 11.30 Uhr Mütter und Väter austauschen\, Hebammen und Stillberaterinne
 n informieren über die ideale Ernährung im ersten Lebensjahr und geben A
 ntworten auf individuelle Fragen und Zweifel.\nGesprächsrunde bei Geträn
 ken & Brezeln\, Geschwisterkinder sind willkommen. \nDie Weltstillwoche w
 urde von der „World Alliance for Breastfeeding Action“ (WABA) ins Lebe
 n gerufen und soll auf die Bedeutung der natürlichen Ernährung von Säug
 lingen und Kleinkindern aufmerksam machen. Die weltweite Aktionswoche find
 et immer in der 40. Kalenderwoche eines Jahres statt\, dem natürlichen En
 de einer Schwangerschaft. 
X-ALT-DESC;FMTTYPE=text/html:<p>Bei dieser Gelegenheit können sich am 01.
  Oktober von 9.30 bis 11.30 Uhr Mütter und Väter austauschen\, Hebammen 
 und Stillberaterinnen informieren über die ideale Ernährung im ersten Le
 bensjahr und geben Antworten auf individuelle Fragen und Zweifel.</p>\n<p>
 Gesprächsrunde bei Getränken &amp\; Brezeln\, Geschwisterkinder sind wil
 lkommen.&nbsp\;</p>\n<p>Die Weltstillwoche wurde von der „World Alliance
  for Breastfeeding Action“ (WABA) ins Leben gerufen und soll auf die Bed
 eutung der natürlichen Ernährung von Säuglingen und Kleinkindern aufmer
 ksam machen. Die weltweite Aktionswoche findet immer in der 40. Kalenderwo
 che eines Jahres statt\, dem natürlichen Ende einer Schwangerschaft.&nbsp
 \;</p>
LOCATION:
END:VEVENT
END:VCALENDAR
