BEGIN:VCALENDAR
VERSION:2.0
PRODID:-//TYPO3/NONSGML Calendarize//EN
BEGIN:VEVENT
UID:calendarize-weltstillwoche-le-2025
DTSTAMP:20260425T154044Z
DTSTART:20250927T110000Z
DTEND:20250927T140000Z
SUMMARY:Weltstillwoche: Aktionsnachmittag mit Kaffee & Kuchen
DESCRIPTION:Anlässlich des diesjährigen Weltstilltages bietet das Team a
 m 27. September 2025 zwischen 13 und 16 Uhr einen Aktionsnachmittag mit Ka
 ffee und Kuchen sowie einem bunten Programm an. Neben der Vernetzung und d
 em Austausch mit anderen Müttern sind Hebammen und Stillberaterinnen vor 
 Ort\, die alle Fragen rund um das Thema Stillen beantworten.\nVorträge\n 
 	14 Uhr  Stillpositionen 	Unterschiede und Vorzüge verschiedener Stillpo
 sitionen 	15 Uhr  Kolostrum-Gewinnung 	Warum kommt der ersten Milch solch
  eine Bedeutung zu und wie kann ich sie gewinnen? \nFür Geschwisterkinder
  gibt es kleine Bastelangebote und eine Wickelstation\, an der sie üben k
 önnen\, das kleine Geschwisterchen selbst zu wickeln\, für viele ein gro
 ßer Spaß! Und gemeinsam mit ihren Eltern können sie an einem spannenden
  Quiz teilnehmen. Wenn es die Situation zulässt\, finden Kreißsaalführu
 ngen statt. Eine Anmeldung ist nicht nötig. Die Veranstaltung findet in d
 en Kursräumen der Frauenklinik im EG des Krankenhauses Leonberg statt.\nD
 ie Weltstillwoche wurde von der „World Alliance for Breastfeeding Action
 “ (WABA) ins Leben gerufen und soll auf die Bedeutung der natürlichen E
 rnährung von Säuglingen und Kleinkindern aufmerksam machen. Die weltweit
 e Aktionswoche findet immer in der 40. Kalenderwoche eines Jahres statt\, 
 dem natürlichen Ende einer Schwangerschaft. 
X-ALT-DESC;FMTTYPE=text/html:<p>Anlässlich des diesjährigen Weltstilltag
 es bietet das Team am 27. September 2025 zwischen 13 und 16 Uhr einen Akti
 onsnachmittag mit Kaffee und Kuchen sowie einem bunten Programm an. Neben 
 der Vernetzung und dem Austausch mit anderen Müttern sind Hebammen und St
 illberaterinnen vor Ort\, die alle Fragen rund um das Thema Stillen beantw
 orten.</p>\n<h5><strong>Vorträge</strong></h5>\n<ul> 	<li><strong>14 Uhr&
 nbsp\; Stillpositionen</strong><br /> 	Unterschiede und Vorzüge verschied
 ener Stillpositionen</li> 	<li><strong>15 Uhr&nbsp\; Kolostrum-Gewinnung</
 strong><br /> 	Warum kommt der ersten Milch solch eine Bedeutung zu und wi
 e kann ich sie gewinnen?</li> </ul>\n<p>Für Geschwisterkinder gibt es kle
 ine Bastelangebote und eine Wickelstation\, an der sie üben können\, das
  kleine Geschwisterchen selbst zu wickeln\, für viele ein großer Spaß! 
 Und gemeinsam mit ihren Eltern können sie an einem spannenden Quiz teilne
 hmen. Wenn es die Situation zulässt\, finden Kreißsaalführungen statt. 
 Eine Anmeldung ist nicht nötig. Die Veranstaltung findet in den Kursräum
 en der Frauenklinik im EG des Krankenhauses Leonberg statt.</p>\n<p>Die We
 ltstillwoche wurde von der „World Alliance for Breastfeeding Action“ (
 WABA) ins Leben gerufen und soll auf die Bedeutung der natürlichen Ernäh
 rung von Säuglingen und Kleinkindern aufmerksam machen. Die weltweite Akt
 ionswoche findet immer in der 40. Kalenderwoche eines Jahres statt\, dem n
 atürlichen Ende einer Schwangerschaft.&nbsp\;</p>
LOCATION:
END:VEVENT
END:VCALENDAR
