BEGIN:VCALENDAR
VERSION:2.0
PRODID:-//TYPO3/NONSGML Calendarize//EN
BEGIN:VEVENT
UID:calendarize-babymassage-bb2025-20260517
DTSTAMP:20260423T163632Z
DTSTART:20260517T080000Z
DTEND:20260517T084500Z
SUMMARY:Babymassage
DESCRIPTION:Geburtshilfliches Angebot Klinik für Frauenheilkunde und Gebu
 rtshilfe Böblingen\nWarum Babymassage?\n 	Durch Berührung wird die Empfi
 ndungsfähigkeit der Haut stimuliert. 	Die Massage hilft den Babys\, sich 
 zu entspannen. 	Babymassage lindert Koliken und Blähungen. 	Die intensive
  Kontaktaufnahme durch die Massage fördert das Verständnis für die Bedü
 rfnisse des Kindes. \nWas lernen Sie im Kurs?\n 	Sie erfahren einen neuen 
 Weg\, mit Ihrem Baby zu kommunizieren. 	Sie üben Entspannungstechniken fü
 r Ihr Baby und für sich selbst. 	Sie lernen eine Ganzkörpermassage für 
 Ihr Baby. 	Sie können eine Massage gegen Blähungen und Koliken anwenden.
  \nKursleiterin: Anne Kathrin Adam\, Kinderkrankenschwester Alter der Baby
 s: 4 - 6 Wochen bis zum Krabbelalter Kursgröße: 6 Mütter/Väter und Bab
 ys Kursumfang: Reihe von 4 Terminen zu je 45 Min. Kursgebühr: 50 Euro ink
 l. Kursunterlagen Kursort: Frauenklinik Böblingen\, Stillgruppenraum Gr. 
 2.3\nAnmeldung: babymassagebb@web.de Tel.: 0173-5190253 (10-18 Uhr)
X-ALT-DESC;FMTTYPE=text/html:<p><strong>Geburtshilfliches Angebot</strong>
 <br /> Klinik für Frauenheilkunde und Geburtshilfe Böblingen</p>\n<p><st
 rong>Warum Babymassage?</strong></p>\n<ul> 	<li>Durch Berührung wird die 
 Empfindungsfähigkeit der Haut stimuliert.</li> 	<li>Die Massage hilft den
  Babys\, sich zu entspannen.</li> 	<li>Babymassage lindert Koliken und Blä
 hungen.</li> 	<li>Die intensive Kontaktaufnahme durch die Massage fördert
  das Verständnis für die Bedürfnisse des Kindes.</li> </ul>\n<p><strong
 >Was lernen Sie im Kurs?</strong></p>\n<ul> 	<li>Sie erfahren einen neuen 
 Weg\, mit Ihrem Baby zu kommunizieren.</li> 	<li>Sie üben Entspannungstec
 hniken für Ihr Baby und für sich selbst.</li> 	<li>Sie lernen eine Ganzk
 örpermassage für Ihr Baby.</li> 	<li>Sie können eine Massage gegen Blä
 hungen und Koliken anwenden.</li> </ul>\n<p>Kursleiterin: Anne Kathrin Ada
 m\, Kinderkrankenschwester<br /> Alter der Babys: 4 - 6 Wochen bis zum Kra
 bbelalter<br /> Kursgröße: 6 Mütter/Väter und Babys<br /> Kursumfang: 
 Reihe von 4 Terminen zu je 45 Min.<br /> Kursgebühr: 50 Euro inkl. Kursun
 terlagen<br /> Kursort: Frauenklinik Böblingen\, Stillgruppenraum Gr. 2.3
 </p>\n<p>Anmeldung: <a href="mailto:babymassagebb@web.de">babymassagebb@we
 b.de</a><br /> Tel.: 0173-5190253 (10-18 Uhr)</p>
LOCATION:
END:VEVENT
END:VCALENDAR
