BEGIN:VCALENDAR
VERSION:2.0
PRODID:-//TYPO3/NONSGML Calendarize//EN
BEGIN:VEVENT
UID:calendarize-kompaktkurs-intensivmedizin-2025
DTSTAMP:20260423T110231Z
DTSTART;VALUE=DATE:20251124
DTEND;VALUE=DATE:20251129
SUMMARY:Kompaktkurs Intensivmedizin
DESCRIPTION:Liebe Kolleg:innen\nauch dieses Jahr möchten wir Sie zu unser
 em „Kompaktkurs Intensivmedizin“ ganz herzlich einladen. Unser ehemals
  reiner „In House“-Kurs wird seit zwei Jahren zu unserer großen Freud
 e auch von externen Teilnehmern besucht und gut angenommen\, bzw. evaluier
 t.\nUnser interdisziplinärer Kurs richtet sich weiterhin an alle ärztlic
 hen Kolleg:innen\, die bereits erste intensivmedizinische Erfahrungen gesa
 mmelt haben oder in absehbarer Zeit ihre intensivmedizinische Tätigkeit b
 eginnen. Aber auch Rückkehrer:innen und Wiedereinsteiger:innen bieten wir
  eine solide und umfangreiche Auffrischung des Wissens an. Wie bereits im 
 vergangenen Jahr begrüßen wir gerne auch wieder an der Intensivmedizin b
 esonders interessierte Pflegekräfte oder Physiotherapeuten.\nWir haben me
 hrere neue Vorträge integriert\, das Konzept im Wesentlichen aber belasse
 n – weiterhin liegt der Schwerpunkt ganz bewusst auf den Grundlagen und 
 den konkreten\, im Alltag typischen\, Vorgehensweisen. Wir freuen uns\, da
 ss wir – dem interdisziplinären Charakter der Intensivmedizin gerecht w
 erdend – erneut zahlreiche erfahrene und vor allem auch praktisch tätig
 e Kolleg:innen aus den verschiedenen Häusern des KVSW als Referent:innen 
 gewinnen konnten.\nMit den Vorträgen zu zahlreichen relevanten Themen der
  Intensivmedizin\, den Diskussionsmöglichkeiten und verschiedenen prakti
 schen Übungen (Sonographie\, Reanimation\, Schockraumszenario\, Bronchosk
 opie\, Beatmungsgeräte mit MPG-Einweisung) glauben wir\, eine vielfältig
 e und attraktive Fortbildung anbieten zu können.\nDr. Andreas Ostermeier\
 , MHBA Chefarzt \nDr. Harald Pek Ltd. Oberarzt\n---\nDatum:  24.11. bis 2
 8.11.2024 (ganztägig)\nVeranstaltungsort: Kliniken Sindelfingen\, Raum Ch
 esterfield\, UG\nAuskunft:\n 	Christina Baust (Fort- und Weiterbildung)\,
  Tel. 07031 98-11104 	Ltd. OA Dr. med. Harald Pek (Ärztliche Leitung)\, T
 el. 07031 98-11544 \nAnmeldung:\nExtern: Anmeldung bitte telefonisch oder 
 per Mail an Frau Acelya Ök (Fort- und Weiterbildung) Tel.: 07031 98-18676
  Mail: bildungszentrum@klinikverbund-suedwest.de Gebühr: 300 €\, CME-P
 unkte sind beantragt.\nIntern: Anmeldungen bitte über unsere Online-Akade
 mie-Seite Für Ärzte des KVSW ist der Kurs gebührenfrei und die Kurszeit
  ist Arbeitszeit. Pausenverpflegung wird gestellt.\nWeitere Details sowie 
 das Programm und Referenten finden Sie im Veranstaltungsflyer. 
X-ALT-DESC;FMTTYPE=text/html:<p>Liebe Kolleg:innen</p>\n<p>auch dieses Jah
 r möchten wir Sie zu unserem „Kompaktkurs Intensivmedizin“ ganz herzl
 ich einladen. Unser ehemals reiner „In House“-Kurs wird seit zwei Jahr
 en zu unserer großen Freude auch von externen Teilnehmern besucht und gut
  angenommen\, bzw. evaluiert.</p>\n<p>Unser interdisziplinärer Kurs richt
 et sich weiterhin an alle ärztlichen Kolleg:innen\, die bereits erste int
 ensivmedizinische Erfahrungen gesammelt haben oder in absehbarer Zeit ihre
  intensivmedizinische Tätigkeit beginnen. Aber auch Rückkehrer:innen und
  Wiedereinsteiger:innen bieten wir eine solide und umfangreiche Auffrischu
 ng des Wissens an. Wie bereits im vergangenen Jahr begrüßen wir gerne au
 ch wieder an der Intensivmedizin besonders interessierte Pflegekräfte ode
 r Physiotherapeuten.</p>\n<p>Wir haben mehrere neue Vorträge integriert\,
  das Konzept im Wesentlichen aber belassen – weiterhin liegt der Schwerp
 unkt ganz bewusst auf den Grundlagen und den konkreten\, im Alltag typisch
 en\, Vorgehensweisen. Wir freuen uns\, dass wir – dem interdisziplinäre
 n Charakter der Intensivmedizin gerecht werdend – erneut zahlreiche erfa
 hrene und vor allem auch praktisch tätige Kolleg:innen aus den verschiede
 nen Häusern des KVSW als Referent:innen gewinnen konnten.</p>\n<p>Mit den
  Vorträgen zu zahlreichen relevanten Themen der Intensivmedizin\, den Dis
 kussionsmöglichkeiten und verschiedenen&nbsp\;praktischen Übungen (Sonog
 raphie\, Reanimation\, Schockraumszenario\, Bronchoskopie\, Beatmungsgerä
 te mit MPG-Einweisung) glauben wir\, eine vielfältige und attraktive Fort
 bildung anbieten zu können.</p>\n<p>Dr. Andreas Ostermeier\, MHBA<br /> C
 hefarzt&nbsp\;</p>\n<p>Dr. Harald Pek<br /> Ltd. Oberarzt</p>\n<p>---</p>\
 n<p><strong>Datum: </strong><br /> 24.11. bis 28.11.2024 (ganztägig)</p>\
 n<p><strong>Veranstaltungsort:</strong><br /> Kliniken Sindelfingen\, Raum
  Chesterfield\, UG</p>\n<p><strong>Auskunft:</strong></p>\n<ul> 	<li>Chris
 tina Baust&nbsp\;(Fort- und Weiterbildung)\, Tel. 07031 98-11104</li> 	<li
 >Ltd. OA Dr. med. Harald Pek (Ärztliche Leitung)\, Tel. 07031 98-11544</l
 i> </ul>\n<p><strong>Anmeldung:</strong></p>\n<p>Extern:<br /> Anmeldung b
 itte telefonisch oder per Mail an<br /> Frau Acelya Ök (Fort- und Weiterb
 ildung)<br /> Tel.: 07031 98-18676<br /> Mail: <a href="mailto:bildungszen
 trum@klinikverbund-suedwest.de">bildungszentrum@klinikverbund-suedwest.de<
 /a><br /> Gebühr: 300 €\,&nbsp\;CME-Punkte sind beantragt.</p>\n<p>Inte
 rn:<br /> Anmeldungen bitte über unsere <a href="https://www.onlineakadem
 ie-kvsw.de/LS/LGN/Login">Online-Akademie-Seite</a><br /> Für Ärzte des K
 VSW ist der Kurs gebührenfrei und die Kurszeit ist Arbeitszeit. Pausenver
 pflegung wird gestellt.</p>\n<p>Weitere Details sowie das Programm und Ref
 erenten finden Sie im Veranstaltungsflyer.&nbsp\;</p>
LOCATION:
END:VEVENT
END:VCALENDAR
