BEGIN:VCALENDAR
VERSION:2.0
PRODID:-//TYPO3/NONSGML Calendarize//EN
BEGIN:VEVENT
UID:calendarize-sepsis-symposium
DTSTAMP:20260423T105830Z
DTSTART:20260316T163000Z
DTEND:20260316T183000Z
SUMMARY:Sepsis-Symposium
DESCRIPTION:Liebe Kolleg:innen\, \nuns allen an der Intensivmedizin Inter
 essierten ist klar\, dass die Sepsis bzw. der septische Schock weiterhin h
 ochdramatische Krankheitsbilder sein können und dass die überlebenden Pa
 tienten im Langzeitverlauf häufig mit Beeinträchtigungen zu kämpfen hab
 en.\nAus diesem Grund wollen wir uns im Rahmen dieses Minisymposiums zu ve
 rschiedenen Teilaspekten auf den neuesten Stand bringen lassen. Zunächst 
 wird Hr. Ltd. OA Dr. Sven Cluss anhand unseres Vorgehens – auch vor dem 
 Hintergrund der ab 2026 geforderten QS-Dokumentation – die Wichtigkeit d
 er frühen und zielgerechten Therapie darlegen. Im Anschluss wird uns Hr. 
 PD Dr. Martin Schlegel von der Technischen Universität München Einblicke
  in die Sepsisforschung im Laufe der Zeit geben und Perspektiven einer vie
 lleicht wirklich individualisierten Therapie aufzeigen. Abschließend wird
  Prof. Dr. Michael Köppen vom Uniklinikum Tübingen die vermutlich immer 
 wieder übersehene und unterschätzte septische Kardiomyopathie beleuchten
 . Selbstverständlich können während einer derartigen Veranstaltung nur 
 Spotlights auf dieses komplexe Krankheitsbild geworfen werden – aber mit
  den Darstellungen zu praktischen Aspekten\, generellen Entwicklungen in d
 er Forschung und einem konkreten Teilaspekt wird es den drei hervorragende
 n Referenten sicher gelingen\, eine spannende und abwechslungsreiche Fortb
 ildung zu gestalten.\nSchon an dieser Stelle gebührt mein Dank allen Refe
 renten und Besuchern. Wir freuen uns auf Ihr Kommen!\nDr. Andreas Ostermei
 er\, MHBA Chefarzt Zentrum für Anästhesie und Intensivmedizin\, Klinikum
  Sindelfingen-Böblingen und Krankenhaus Herrenberg\n\n---\n\nDatum:  Mon
 tag\, 16.03.2026 von 17:30 Uhr bis 19:30 Uhr\nVeranstaltungsort: Raum Ches
 terfield (1. UG)\, Kliniken Sindelfingen\nAuskunft: Martina Schänzlin Tel
 .: 07031-98 12542 m.schaenzlin@klinikverbund-suedwest.de\nEine Anmeldung i
 st nicht erforderlich. \nWeitere Details sowie das Programm und Referente
 n finden Sie im Veranstaltungsflyer. 
X-ALT-DESC;FMTTYPE=text/html:<p>Liebe Kolleg:innen\,&nbsp\;</p>\n<p>uns al
 len an der Intensivmedizin Interessierten ist klar\, dass die Sepsis bzw. 
 der septische Schock weiterhin hochdramatische Krankheitsbilder sein könn
 en und dass die überlebenden Patienten im Langzeitverlauf häufig mit Bee
 inträchtigungen zu kämpfen haben.</p>\n<p>Aus diesem Grund wollen wir un
 s im Rahmen dieses Minisymposiums zu verschiedenen Teilaspekten auf den ne
 uesten Stand bringen lassen.<br /> Zunächst wird Hr. Ltd. OA Dr. Sven Clu
 ss anhand unseres Vorgehens – auch vor dem Hintergrund der ab 2026 gefor
 derten QS-Dokumentation – die Wichtigkeit der frühen und zielgerechten 
 Therapie darlegen.<br /> Im Anschluss wird uns Hr. PD Dr. Martin Schlegel 
 von der Technischen Universität München Einblicke in die Sepsisforschung
  im Laufe der Zeit geben und Perspektiven einer vielleicht wirklich indivi
 dualisierten Therapie aufzeigen.<br /> Abschließend wird Prof. Dr. Michae
 l Köppen vom Uniklinikum Tübingen die vermutlich immer wieder übersehen
 e und unterschätzte septische Kardiomyopathie beleuchten.<br /> Selbstver
 ständlich können während einer derartigen Veranstaltung nur Spotlights 
 auf dieses komplexe Krankheitsbild geworfen werden – aber mit den Darste
 llungen zu praktischen Aspekten\, generellen Entwicklungen in der Forschun
 g und einem konkreten Teilaspekt wird es den drei hervorragenden Referente
 n sicher gelingen\, eine spannende und abwechslungsreiche Fortbildung zu g
 estalten.</p>\n<p>Schon an dieser Stelle gebührt mein Dank allen Referent
 en und Besuchern. Wir freuen uns auf Ihr Kommen!</p>\n<p>Dr. Andreas Oster
 meier\, MHBA<br /> Chefarzt Zentrum für Anästhesie und Intensivmedizin\,
  Klinikum Sindelfingen-Böblingen<br /> und Krankenhaus Herrenberg</p>\n\n
 <p>---</p>\n\n<p><strong>Datum:</strong>&nbsp\;<br /> Montag\, 16.03.2026 
 von 17:30 Uhr bis 19:30 Uhr</p>\n<p><strong>Veranstaltungsort:</strong><br
  /> Raum Chesterfield (1. UG)\, Kliniken Sindelfingen</p>\n<p><strong>Ausk
 unft:</strong><br /> Martina Schänzlin<br /> Tel.: 07031-98 12542<br /> m
 .schaenzlin@klinikverbund-suedwest.de</p>\n<p>Eine Anmeldung ist nicht erf
 orderlich.&nbsp\;</p>\n<p>Weitere Details sowie das Programm und Referente
 n finden Sie im Veranstaltungsflyer.&nbsp\;</p>
LOCATION:Kliniken Sindelfingen 
END:VEVENT
END:VCALENDAR
