BEGIN:VCALENDAR
VERSION:2.0
PRODID:-//TYPO3/NONSGML Calendarize//EN
BEGIN:VEVENT
UID:calendarize-uro-onkologisches-update-qualitaetszirkel-81025-20261007
DTSTAMP:20260425T140434Z
DTSTART:20261007T173000Z
DTEND:20261006T220000Z
SUMMARY:Uro-Onkologisches Update – Qualitätszirkel
DESCRIPTION:Urologische Klinik Sindelfingen (UKS)\nFortbildung für Ärzte
 \nVeranstaltungsort: Kliniken Sindelfingen\, Konferenzraum Chesterfield/Ru
 baga 1. UG Das Parken während der Veranstaltung ist kostenlos.\nTermin: M
 ittwoch\, 07. Oktober 2026\nKontakt: Sekretariat Tel.: 07031 98-12501 Fax:
  07031 98-12342 uks@klinikverbund-suedwest.de
X-ALT-DESC;FMTTYPE=text/html:<h5><strong>Urologische Klinik Sindelfingen (
 UKS)</strong></h5>\n<p>Fortbildung für Ärzte</p>\n<p>Veranstaltungsort:<
 br /> Kliniken Sindelfingen\, Konferenzraum Chesterfield/Rubaga 1. UG<br /
 > Das Parken während der Veranstaltung ist kostenlos.</p>\n<p>Termin:<br 
 /> Mittwoch\, 07. Oktober 2026</p>\n<p>Kontakt:<br /> Sekretariat<br /> Te
 l.: 07031 98-12501<br /> Fax: 07031 98-12342<br /> <a href="mailto:uks@kli
 nikverbund-suedwest.de">uks@klinikverbund-suedwest.de</a></p>
LOCATION:
END:VEVENT
END:VCALENDAR
